Workbook

Sheet Gerekli
F1: Doküman No | G1: KYS-FRM-485
E2: AKSARAY ÜNİVERSİTESİ | F2: İlk Yayın Tarihi | G2: 12.03.2026
E3: ORTAKÖY MESLEK YÜKSEKOKULU DERS BAŞARI HESABI FORMU | F3: Revizyon No | G3: 0
E4: …............... BÖLÜMÜ .................. PROGRAMI | F4: Revizyon Tarihi | G4: -
E5: Ders Kodu - Ders Adı | F5: Sayfa | G5: 1/1
B6: Her ders için aşağıdaki bilgiler girilmelidir.
E8: AÇIKLAMALAR
E9: 1. Dersin değerlendirme ölçütlerine (arasınav, ödev, proje, final (bütünleme)) göre öğrenim çıktılarına erişim düzeyini hesaplar.
B10: DD Sınırı | C10: 40 | E10: 2. Öğrenim çıktıları ve program çıktıları ilişkisinden dersin program çıktılarına katkısını hesaplar.
E11: 3. Tüm öğrencilerin puanları soru bazında girilmelidir.
B12: Arasınav | C12: 0.4 | E12: 4. Öğretim elemanı bu hesaplamaya dersin değerlendirme ölçütlerinin ağırlıklarını ve DD sınırını vermelidir (Hesaplamalar dersi geçen öğrenciler üzerinden (bütünleme sınavında da sonra) yapılmaktadır).
B13: Ödev | E13: 5. Her bir değerlendirme ölçütü (arasınav, ödev, proje, final (bütünleme) ) için soru bazında puanlar ilgili çalışma sayfasında girilmelidir.
B14: Proje | E14: 6. Eğer öğrenci ilgili sınava girmedi ise soruların puanları boş bırakılmalıdır (G ya da Girmedi yazılmamalıdır)
B15: Final | C15: 0.6 | E15: 7. Her bir değerlendirme ölçütü için soruların puanları sayfanın en üstünde toplamı 100 olacak şekilde verilmelidir.
B16: Toplam | C16: =C12+C13+C14+C15 -> 1 | E16: 8. Her bir değerlendirme ölçütü için sorularla öğrenim çıktılarının (ÖÇ) ilişki matrisi verilmelidir (soru ilgili ÖÇ ile ilişkili ise 1, değilse 0).
E17: 9. Her bir değerlendirme ölçütü için soru bazında puanlar ve ayrıca soru-ÖÇ ilişki matrisi ilgili sayfalara girilmelidir (Arasınav, ArasınavOGR, Ödev, ÖdevOGR, . . . )
E18: 10. Dersin öğrenim çıktıları ile programın çıktıları ilişki matrisi PRGCIKTI sayfasına (ÖÇ-PÇ matrisi) girilmelidir (ÖÇ ilgili PÇ ile ilişkili ise 1, değilse 0; katkı düzeyi 3 ve yukarısı için 1 girilebilir).
B19: OÇ Sayısı | E19: 11. Bütünleme Sınavı Final Sınavının ikamesi yerine geçtiği için Final Sınavı ile aynı Öğrenim Çıktılarını (Öçleri) ölçmesi beklenmektedir.
B20: PÇ Sayısı | E20: 12. BAŞARI sayfasında gerekli hesaplamalar yapılmaktadır (sayfa korumalıdır).
B21: OBS deki bölüm program çıktı sayısı | E21: 13.SONUÇ sayfasında dersin program çıktılarına erişim yüzdeleri, dersin öğrenim çıktılarına erişim yüzdeleri ve her bir değerlendirme ölçütü için soru başarı ortalama ve yüzdesine ulaşılabilir.
E22: 14. SONUÇ sayfası korumalıdır fakat elde edilen hesaplamalar kopyalanıp (sağ tık, değerleri yapıştır) başka bir excel (ya da word) sayfasına aktarılabilir, sonuçlar grafiklerle özetlenebilir.
B25: OÇ: Öğrenme çıktısı
B26: PÇ: Program çıktısı

Sheet Arasınav
A1: Soruların Puanları | B1: 20 | C1: 80 | AF1: =SUM(B1:AE1) -> 100
A2: Öğrenci | B2: A1 | C2: A2 | AF2: Arasınav Not
A3: T1 | AF3: =SUM(B3:AE3) -> 0
A4: T2 | AF4: =SUM(B4:AE4) -> 0
A5: T3 | AF5: =SUM(B5:AE5) -> 0
A6: T4 | AF6: =SUM(B6:AE6) -> 0
A7: T5 | AF7: =SUM(B7:AE7) -> 0
A8: T6 | AF8: =SUM(B8:AE8) -> 0
A9: T7 | AF9: =SUM(B9:AE9) -> 0
A10: T8 | AF10: =SUM(B10:AE10) -> 0
A11: T9 | AF11: =SUM(B11:AE11) -> 0
A12: T10 | AF12: =SUM(B12:AE12) -> 0
A13: T11 | AF13: =SUM(B13:AE13) -> 0
A14: T12 | AF14: =SUM(B14:AE14) -> 0
... A201: T199 | AF201: =SUM(B201:AE201) -> 0
A202: T200

Sheet ArasınavOGR
B2: A1 | C2: A2
A3: ÖÇ1 | B3: 1 | C3: 0
A4: ÖÇ2 | B4: 0 | C4: 1
A5: ÖÇ3 | B5: 0 | C5: 1
A6: ÖÇ4 | B6: 0 | C6: 1
A7: ÖÇ5 | B7: 0 | C7: 1
A8: ÖÇ6
A9: ÖÇ7
A10: ÖÇ8
A11: ÖÇ9
A12: ÖÇ10
B15: NOT: Yukarıdaki tablo doldurulurken her bir değerlendirme ölçütü için sorularla öğrenim çıktılarının (ÖÇ) ilişki matrisi verilmelidir (Soru ilgili ÖÇ ile ilişkili ise 1, değilse 0).

Sheet Ödev
A1: Soruların Puanları | AF1: =SUM(B1:AE1) -> 0
A2: Öğrenci | B2: Ö1 | C2: Ö2 | D2: Ö3 | E2: Ö4 | F2: Ö5 | G2: Ö6 | H2: Ö7 | I2: Ö8 | J2: Ö9 | K2: Ö10 | L2: Ö11 | M2: Ö12 | N2: Ö13 | O2: Ö14 | P2: Ö15 | Q2: Ö16 | R2: Ö17 | S2: Ö18 | T2: Ö19 | U2: Ö20 | V2: Ö21 | W2: Ö22 | X2: Ö23 | Y2: Ö24 | Z2: Ö25 | AA2: Ö26 | AB2: Ö27 | AC2: Ö28 | AD2: Ö29 | AE2: Ö30 | AF2: Ödev Not
A3: =Arasınav!A3 -> T1 | AF3: =SUM(B3:AE3) -> 0
A4: =Arasınav!A4 -> T2 | AF4: =SUM(B4:AE4) -> 0
A5: =Arasınav!A5 -> T3 | AF5: =SUM(B5:AE5) -> 0
A6: =Arasınav!A6 -> T4 | AF6: =SUM(B6:AE6) -> 0
A7: =Arasınav!A7 -> T5 | AF7: =SUM(B7:AE7) -> 0
A8: =Arasınav!A8 -> T6 | AF8: =SUM(B8:AE8) -> 0
A9: =Arasınav!A9 -> T7 | AF9: =SUM(B9:AE9) -> 0
A10: =Arasınav!A10 -> T8 | AF10: =SUM(B10:AE10) -> 0
A11: =Arasınav!A11 -> T9 | AF11: =SUM(B11:AE11) -> 0
A12: =Arasınav!A12 -> T10 | AF12: =SUM(B12:AE12) -> 0
A13: =Arasınav!A13 -> T11 | AF13: =SUM(B13:AE13) -> 0
A14: =Arasınav!A14 -> T12 | AF14: =SUM(B14:AE14) -> 0
... A201: =Arasınav!A201 -> T199 | AF201: =SUM(B201:AE201) -> 0
A202: =Arasınav!A202 -> T200

Sheet ÖdevOGR
B2: Ö1 | C2: Ö2 | D2: Ö3 | E2: Ö4 | F2: Ö5 | G2: Ö6 | H2: Ö7 | I2: Ö8 | J2: Ö9 | K2: Ö10 | L2: Ö11 | M2: Ö12 | N2: Ö13 | O2: Ö14 | P2: Ö15 | Q2: Ö16 | R2: Ö17 | S2: Ö18 | T2: Ö19 | U2: Ö20 | V2: Ö21 | W2: Ö22 | X2: Ö23 | Y2: Ö24 | Z2: Ö25 | AA2: Ö26 | AB2: Ö27 | AC2: Ö28 | AD2: Ö29 | AE2: Ö30
A3: ÖÇ1
A4: ÖÇ2
A5: ÖÇ3
A6: ÖÇ4
A7: ÖÇ5
A8: ÖÇ6
A9: ÖÇ7
A10: ÖÇ8
A11: ÖÇ9
A12: ÖÇ10
B15: NOT: Yukarıdaki tablo doldurulurken her bir değerlendirme ölçütü için sorularla öğrenim çıktılarının (ÖÇ) ilişki matrisi verilmelidir (Soru ilgili ÖÇ ile ilişkili ise 1, değilse 0).

Sheet Proje
A1: Soruların Puanları | AF1: =SUM(B1:AE1) -> 0
A2: Öğrenci | B2: P1 | C2: P2 | D2: P3 | E2: P4 | F2: P5 | G2: P6 | H2: P7 | I2: P8 | J2: P9 | K2: P10 | L2: P11 | M2: P12 | N2: P13 | O2: P14 | P2: P15 | Q2: P16 | R2: P17 | S2: P18 | T2: P19 | U2: P20 | V2: P21 | W2: P22 | X2: P23 | Y2: P24 | Z2: P25 | AA2: P26 | AB2: P27 | AC2: P28 | AD2: P29 | AE2: P30 | AF2: Proje Not
A3: =Arasınav!A3 -> T1 | AF3: =SUM(B3:AE3) -> 0
A4: =Arasınav!A4 -> T2 | AF4: =SUM(B4:AE4) -> 0
A5: =Arasınav!A5 -> T3 | AF5: =SUM(B5:AE5) -> 0
A6: =Arasınav!A6 -> T4 | AF6: =SUM(B6:AE6) -> 0
A7: =Arasınav!A7 -> T5 | AF7: =SUM(B7:AE7) -> 0
A8: =Arasınav!A8 -> T6 | AF8: =SUM(B8:AE8) -> 0
A9: =Arasınav!A9 -> T7 | AF9: =SUM(B9:AE9) -> 0
A10: =Arasınav!A10 -> T8 | AF10: =SUM(B10:AE10) -> 0
A11: =Arasınav!A11 -> T9 | AF11: =SUM(B11:AE11) -> 0
A12: =Arasınav!A12 -> T10 | AF12: =SUM(B12:AE12) -> 0
A13: =Arasınav!A13 -> T11 | AF13: =SUM(B13:AE13) -> 0
A14: =Arasınav!A14 -> T12 | AF14: =SUM(B14:AE14) -> 0
... A201: =Arasınav!A201 -> T199 | AF201: =SUM(B201:AE201) -> 0
A202: =Arasınav!A202 -> T200

Sheet ProjeOGR
B2: P1 | C2: P2 | D2: P3 | E2: P4 | F2: P5 | G2: P6 | H2: P7 | I2: P8 | J2: P9 | K2: P10 | L2: P11 | M2: P12 | N2: P13 | O2: P14 | P2: P15 | Q2: P16 | R2: P17 | S2: P18 | T2: P19 | U2: P20 | V2: P21 | W2: P22 | X2: P23 | Y2: P24 | Z2: P25 | AA2: P26 | AB2: P27 | AC2: P28 | AD2: P29 | AE2: P30
A3: ÖÇ1
A4: ÖÇ2
A5: ÖÇ3
A6: ÖÇ4
A7: ÖÇ5
A8: ÖÇ6
A9: ÖÇ7
A10: ÖÇ8
A11: ÖÇ9
A12: ÖÇ10
B16: NOT: Yukarıdaki tablo doldurulurken her bir değerlendirme ölçütü için sorularla öğrenim çıktılarının (ÖÇ) ilişki matrisi verilmelidir (Soru ilgili ÖÇ ile ilişkili ise 1, değilse 0).

Sheet Final
A1: Soruların Puanları | B1: 100 | AF1: =SUM(B1:AE1) -> 100
A2: Öğrenci | B2: F1 | V2: F21 | W2: F22 | X2: F23 | Y2: F24 | Z2: F25 | AA2: F26 | AB2: F27 | AC2: F28 | AD2: F29 | AE2: F30 | AF2: Final Not
A3: =Arasınav!A3 -> T1 | AF3: =SUM(B3:AE3) -> 0
A4: =Arasınav!A4 -> T2 | B4: 10 | AF4: =SUM(B4:AE4) -> 10
A5: =Arasınav!A5 -> T3 | B5: 85 | AF5: =SUM(B5:AE5) -> 85
A6: =Arasınav!A6 -> T4 | B6: 95 | AF6: =SUM(B6:AE6) -> 95
A7: =Arasınav!A7 -> T5 | B7: 10 | AF7: =SUM(B7:AE7) -> 10
A8: =Arasınav!A8 -> T6 | B8: 100 | AF8: =SUM(B8:AE8) -> 100
A9: =Arasınav!A9 -> T7 | B9: 90 | AF9: =SUM(B9:AE9) -> 90
A10: =Arasınav!A10 -> T8 | B10: 70 | AF10: =SUM(B10:AE10) -> 70
A11: =Arasınav!A11 -> T9 | B11: 30 | AF11: =SUM(B11:AE11) -> 30
A12: =Arasınav!A12 -> T10 | B12: 40 | AF12: =SUM(B12:AE12) -> 40
A13: =Arasınav!A13 -> T11 | B13: 45 | AF13: =SUM(B13:AE13) -> 45
A14: =Arasınav!A14 -> T12 | AF14: =SUM(B14:AE14) -> 0
A15: =Arasınav!A15 -> T13 | B15: 40 | AF15: =SUM(B15:AE15) -> 40
A16: =Arasınav!A16 -> T14 | B16: 10 | AF16: =SUM(B16:AE16) -> 10
A17: =Arasınav!A17 -> T15 | B17: 85 | AF17: =SUM(B17:AE17) -> 85
A18: =Arasınav!A18 -> T16 | B18: 15 | AF18: =SUM(B18:AE18) -> 15
A19: =Arasınav!A19 -> T17 | B19: 55 | AF19: =SUM(B19:AE19) -> 55
A20: =Arasınav!A20 -> T18 | B20: 90 | AF20: =SUM(B20:AE20) -> 90
A21: =Arasınav!A21 -> T19 | B21: 90 | AF21: =SUM(B21:AE21) -> 90
A22: =Arasınav!A22 -> T20 | B22: 30 | AF22: =SUM(B22:AE22) -> 30
A23: =Arasınav!A23 -> T21 | B23: 70 | AF23: =SUM(B23:AE23) -> 70
A24: =Arasınav!A24 -> T22 | B24: 65 | AF24: =SUM(B24:AE24) -> 65
A25: =Arasınav!A25 -> T23 | B25: 30 | AF25: =SUM(B25:AE25) -> 30
A26: =Arasınav!A26 -> T24 | B26: 65 | AF26: =SUM(B26:AE26) -> 65
... A29: =Arasınav!A29 -> T27 | B29: 45 | AF29: =SUM(B29:AE29) -> 45
A30: =Arasınav!A30 -> T28 | AF30: =SUM(B30:AE30) -> 0
A31: =Arasınav!A31 -> T29 | AF31: =SUM(B31:AE31) -> 0
A32: =Arasınav!A32 -> T30 | AF32: =SUM(B32:AE32) -> 0
A33: =Arasınav!A33 -> T31 | AF33: =SUM(B33:AE33) -> 0
A34: =Arasınav!A34 -> T32 | AF34: =SUM(B34:AE34) -> 0
A35: =Arasınav!A35 -> T33 | AF35: =SUM(B35:AE35) -> 0
A36: =Arasınav!A36 -> T34 | AF36: =SUM(B36:AE36) -> 0
A37: =Arasınav!A37 -> T35 | AF37: =SUM(B37:AE37) -> 0
A38: =Arasınav!A38 -> T36 | AF38: =SUM(B38:AE38) -> 0
A39: =Arasınav!A39 -> T37 | AF39: =SUM(B39:AE39) -> 0
A40: =Arasınav!A40 -> T38 | AF40: =SUM(B40:AE40) -> 0
A41: =Arasınav!A41 -> T39 | AF41: =SUM(B41:AE41) -> 0
... A201: =Arasınav!A201 -> T199 | AF201: =SUM(B201:AE201) -> 0
A202: =Arasınav!A202 -> T200

Sheet FinalOGR
B2: F1
A3: ÖÇ1 | B3: 1
A4: ÖÇ2 | B4: 1
A5: ÖÇ3 | B5: 1
A6: ÖÇ4 | B6: 1
A7: ÖÇ5 | B7: 1
A8: ÖÇ6
A9: ÖÇ7
A10: ÖÇ8
A11: ÖÇ9
A12: ÖÇ10
B16: NOT: Yukarıdaki tablo doldurulurken her bir değerlendirme ölçütü için sorularla öğrenim çıktılarının (ÖÇ) ilişki matrisi verilmelidir (Soru ilgili ÖÇ ile ilişkili ise 1, değilse 0).

Sheet But
A1: Soruların Puanları | B1: 100 | AF1: =SUM(B1:AE1) -> 100
A2: Öğrenci | B2: B1 | AF2: Büt Not
A3: =Arasınav!A3 -> T1 | AF3: =SUM(B3:AE3) -> 0
A4: =Arasınav!A4 -> T2 | B4: 12 | AF4: =SUM(B4:AE4) -> 12
A5: =Arasınav!A5 -> T3 | AF5: =SUM(B5:AE5) -> 0
A6: =Arasınav!A6 -> T4 | AF6: =SUM(B6:AE6) -> 0
A7: =Arasınav!A7 -> T5 | B7: 97 | AF7: =SUM(B7:AE7) -> 97
A8: =Arasınav!A8 -> T6 | AF8: =SUM(B8:AE8) -> 0
A9: =Arasınav!A9 -> T7 | AF9: =SUM(B9:AE9) -> 0
A10: =Arasınav!A10 -> T8 | AF10: =SUM(B10:AE10) -> 0
A11: =Arasınav!A11 -> T9 | AF11: =SUM(B11:AE11) -> 0
A12: =Arasınav!A12 -> T10 | AF12: =SUM(B12:AE12) -> 0
A13: =Arasınav!A13 -> T11 | AF13: =SUM(B13:AE13) -> 0
A14: =Arasınav!A14 -> T12 | B14: 100 | AF14: =SUM(B14:AE14) -> 100
A15: =Arasınav!A15 -> T13 | B15: 95 | AF15: =SUM(B15:AE15) -> 95
A16: =Arasınav!A16 -> T14 | B16: 65 | AF16: =SUM(B16:AE16) -> 65
A17: =Arasınav!A17 -> T15 | AF17: =SUM(B17:AE17) -> 0
A18: =Arasınav!A18 -> T16 | B18: 62 | AF18: =SUM(B18:AE18) -> 62
A19: =Arasınav!A19 -> T17 | AF19: =SUM(B19:AE19) -> 0
A20: =Arasınav!A20 -> T18 | AF20: =SUM(B20:AE20) -> 0
A21: =Arasınav!A21 -> T19 | AF21: =SUM(B21:AE21) -> 0
A22: =Arasınav!A22 -> T20 | B22: 60 | AF22: =SUM(B22:AE22) -> 60
A23: =Arasınav!A23 -> T21 | AF23: =SUM(B23:AE23) -> 0
A24: =Arasınav!A24 -> T22 | AF24: =SUM(B24:AE24) -> 0
A25: =Arasınav!A25 -> T23 | AF25: =SUM(B25:AE25) -> 0
A26: =Arasınav!A26 -> T24 | AF26: =SUM(B26:AE26) -> 0
A27: =Arasınav!A27 -> T25 | B27: 100 | AF27: =SUM(B27:AE27) -> 100
A28: =Arasınav!A28 -> T26 | AF28: =SUM(B28:AE28) -> 0
A29: =Arasınav!A29 -> T27 | AF29: =SUM(B29:AE29) -> 0
A30: =Arasınav!A30 -> T28 | AF30: =SUM(B30:AE30) -> 0
A31: =Arasınav!A31 -> T29 | AF31: =SUM(B31:AE31) -> 0
A32: =Arasınav!A32 -> T30 | AF32: =SUM(B32:AE32) -> 0
A33: =Arasınav!A33 -> T31 | AF33: =SUM(B33:AE33) -> 0
A34: =Arasınav!A34 -> T32 | AF34: =SUM(B34:AE34) -> 0
A35: =Arasınav!A35 -> T33 | AF35: =SUM(B35:AE35) -> 0
A36: =Arasınav!A36 -> T34 | AF36: =SUM(B36:AE36) -> 0
A37: =Arasınav!A37 -> T35 | AF37: =SUM(B37:AE37) -> 0
A38: =Arasınav!A38 -> T36 | AF38: =SUM(B38:AE38) -> 0
A39: =Arasınav!A39 -> T37 | AF39: =SUM(B39:AE39) -> 0
... A201: =Arasınav!A201 -> T199 | AF201: =SUM(B201:AE201) -> 0
A202: =Arasınav!A202 -> T200

Sheet ButOGR
B2: B1
A3: ÖÇ1 | B3: 1
A4: ÖÇ2 | B4: 1
A5: ÖÇ3 | B5: 1
A6: ÖÇ4 | B6: 1
A7: ÖÇ5 | B7: 1
A8: ÖÇ6
A9: ÖÇ7
A10: ÖÇ8
A11: ÖÇ9
A12: ÖÇ10
D16: Önemli Uyarı: Bütünleme Sınavı Final Sınavının ikamesi olduğu için Bütünleme Sınavında Ölçülen Öğrenim Çıktılarının Final Sınavı ile aynı olması beklenmektedir.

Sheet PRGCIKTI
B2: ÖÇ1 | C2: ÖÇ2 | D2: ÖÇ3 | E2: ÖÇ4 | F2: ÖÇ5 | G2: ÖÇ6 | H2: ÖÇ7 | I2: ÖÇ8 | J2: ÖÇ9 | K2: ÖÇ10
A3: PÇ1 | B3: 1 | C3: 1 | D3: 1 | E3: 1 | F3: 1
A4: PÇ2 | B4: 0 | C4: 0 | D4: 1 | E4: 0 | F4: 0
A5: PÇ3 | B5: 0 | C5: 0 | D5: 0 | E5: 0 | F5: 1
A6: PÇ4 | B6: 1 | C6: 1 | D6: 0 | E6: 1 | F6: 1
A7: PÇ5 | B7: 0 | C7: 0 | D7: 0 | E7: 0 | F7: 0
A8: PÇ6 | B8: 0 | C8: 0 | D8: 0 | E8: 0 | F8: 0
A9: PÇ7 | B9: 0 | C9: 0 | D9: 0 | E9: 0 | F9: 0
A10: PÇ8 | B10: 0 | C10: 1 | D10: 1 | E10: 0 | F10: 1
A11: PÇ9 | B11: 1 | C11: 0 | D11: 0 | E11: 0 | F11: 1
A12: PÇ10 | B12: 0 | C12: 0 | D12: 0 | E12: 0 | F12: 0
A13: PÇ11 | B13: 1 | C13: 1 | D13: 1 | E13: 1 | F13: 1
A14: PÇ12 | B14: 0 | C14: 0 | D14: 0 | E14: 0 | F14: 0
... A17: PÇ15 | B17: 0 | C17: 0 | D17: 0 | E17: 0 | F17: 0
A18: PÇ16
A19: PÇ17
A20: PÇ18
A21: PÇ19
A22: PÇ20
B24: Dersin öğrenim çıktıları ile programın çıktıları ilişki matrisi PRGCIKTI sayfasına (ÖÇ-PÇ matrisi) girilmelidir (ÖÇ ilgili PÇ ile ilişkili ise 1, değilse 0; katkı düzeyi 3 ve yukarısı için 1 girilebilir).

Sheet BAŞARI
B1: =Gerekli!C12 -> 0.4 | C1: =Gerekli!C13 -> 0 | D1: =Gerekli!C14 -> 0 | E1: =Gerekli!C15 -> 0.6 | H1: DD Sınırı | I1: =Gerekli!C10-0.5 -> 39.5 | L1: =Gerekli!C15 -> 0.6
A2: Öğrenci | B2: Arasınav katkı | C2: Ödev Katkı | D2: Proje Katkı | E2: Final Katkı | F2: Başarı Puanı | H2: Sonuç | I2: Final Geçme Durumu | J2: Final Geçen Say. | K2: Büte Girme | L2: Büt Katkı | M2: Başarı Puanı (Büt) | N2: Sonuç (Büt) | O2: Büt Geçme Durumu | P2: Ders Geçme Durumu | Q2: Final+Büt Geçen Say. | T2: A1 | U2: A2 | V2: A3 | W2: A4 | X2: A5 | Y2: A6 | Z2: A7 | AA2: A8 | AB2: A9 | AC2: A10 | AD2: A11 | AE2: A12 | AF2: A13 | AG2: A14 | AH2: A15 | AI2: A16 | AJ2: A17 | AK2: A18 | AL2: A19 | AM2: A20 | AN2: A21 | AO2: A22 | AP2: A23 | AQ2: A24 | AR2: A25 | AS2: A26 | AT2: A27 | AU2: A28 | AV2: A29 | AW2: A30
A3: =Arasınav!A3 -> T1 | B3: =$B$1*Arasınav!AF3 -> 0 | C3: =$C$1*Ödev!AF3 -> 0 | D3: =$D$1*Proje!AF3 -> 0 | E3: =$E$1*Final!AF3 -> 0 | F3: =B3+C3+D3+E3 -> 0 | H3: =IF(F3>$I$1,"G","K") -> K | I3: =IF(H3="G", 1,0) -> 0 | J3: =COUNTIF(I3:I202,1) -> 9 | K3: =IF(I3=1,0,1) -> 1 | L3: =K3*$L$1*But!AF3 -> 0 | M3: =IF(K3=1, B3+C3+D3+L3,0) -> 0 | N3: =IF(M3>$I$1,"G","K") -> K | O3: =IF(N3="G", 1,0) -> 0 | P3: =IF(I3+O3=1,1,0) -> 0 | Q3: =COUNTIF(P3:P202,1) -> 13 | S3: Ort | T3: =(((SUMPRODUCT($P3:$P202, Arasınav!B3:'Arasınav'!B202))/$Q3)) -> 0 | U3: =(((SUMPRODUCT($P3:$P202, Arasınav!C3:'Arasınav'!C202))/$Q3)) -> 0 | V3: =(((SUMPRODUCT($P3:$P202, Arasınav!D3:'Arasınav'!D202))/$Q3)) -> 0 | W3: =(((SUMPRODUCT($P3:$P202, Arasınav!E3:'Arasınav'!E202))/$Q3)) -> 0 | X3: =(((SUMPRODUCT($P3:$P202, Arasınav!F3:'Arasınav'!F202))/$Q3)) -> 0 | Y3: =(((SUMPRODUCT($P3:$P202, Arasınav!G3:'Arasınav'!G202))/$Q3)) -> 0 | Z3: =(((SUMPRODUCT($P3:$P202, Arasınav!H3:'Arasınav'!H202))/$Q3)) -> 0 | AA3: =(((SUMPRODUCT($P3:$P202, Arasınav!I3:'Arasınav'!I202))/$Q3)) -> 0 | ... AW3: =(((SUMPRODUCT($P3:$P202, Arasınav!AE3:'Arasınav'!AE202))/$Q3)) -> 0
A4: =Arasınav!A4 -> T2 | B4: =$B$1*Arasınav!AF4 -> 0 | C4: =$C$1*Ödev!AF4 -> 0 | D4: =$D$1*Proje!AF4 -> 0 | E4: =$E$1*Final!AF4 -> 6 | F4: =B4+C4+D4+E4 -> 6 | H4: =IF(F4>$I$1,"G","K") -> K | I4: =IF(H4="G", 1,0) -> 0 | K4: =IF(I4=1,0,1) -> 1 | L4: =K4*$L$1*But!AF4 -> 7.2 | M4: =IF(K4=1, B4+C4+D4+L4,0) -> 7.2 | N4: =IF(M4>$I$1,"G","K") -> K | O4: =IF(N4="G", 1,0) -> 0 | P4: =IF(I4+O4=1,1,0) -> 0 | T4: =(((SUMPRODUCT($P3:$P202, Arasınav!B3:'Arasınav'!B202))/$Q3)/Arasınav!B1)*100 -> 0 | U4: =(((SUMPRODUCT($P3:$P202, Arasınav!C3:'Arasınav'!C202))/$Q3)/Arasınav!C1)*100 -> 0 | V4: =(((SUMPRODUCT($P3:$P202, Arasınav!D3:'Arasınav'!D202))/$Q3)/Arasınav!D1)*100 -> #DIV/0! | W4: =(((SUMPRODUCT($P3:$P202, Arasınav!E3:'Arasınav'!E202))/$Q3)/Arasınav!E1)*100 -> #DIV/0! | X4: =(((SUMPRODUCT($P3:$P202, Arasınav!F3:'Arasınav'!F202))/$Q3)/Arasınav!F1)*100 -> #DIV/0! | Y4: =(((SUMPRODUCT($P3:$P202, Arasınav!G3:'Arasınav'!G202))/$Q3)/Arasınav!G1)*100 -> #DIV/0! | Z4: =(((SUMPRODUCT($P3:$P202, Arasınav!H3:'Arasınav'!H202))/$Q3)/Arasınav!H1)*100 -> #DIV/0! | AA4: =(((SUMPRODUCT($P3:$P202, Arasınav!I3:'Arasınav'!I202))/$Q3)/Arasınav!I1)*100 -> #DIV/0! | ... AW4: =(((SUMPRODUCT($P3:$P202, Arasınav!AE3:'Arasınav'!AE202))/$Q3)/Arasınav!AE1)*100 -> #DIV/0!
A5: =Arasınav!A5 -> T3 | B5: =$B$1*Arasınav!AF5 -> 0 | C5: =$C$1*Ödev!AF5 -> 0 | D5: =$D$1*Proje!AF5 -> 0 | E5: =$E$1*Final!AF5 -> 51 | F5: =B5+C5+D5+E5 -> 51 | H5: =IF(F5>$I$1,"G","K") -> G | I5: =IF(H5="G", 1,0) -> 1 | K5: =IF(I5=1,0,1) -> 0 | L5: =K5*$L$1*But!AF5 -> 0 | M5: =IF(K5=1, B5+C5+D5+L5,0) -> 0 | N5: =IF(M5>$I$1,"G","K") -> K | O5: =IF(N5="G", 1,0) -> 0 | P5: =IF(I5+O5=1,1,0) -> 1 | Q5: Büt Geçen Say. | S5: % | T5: =IFERROR(T4,0) -> 0 | U5: =IFERROR(U4,0) -> 0 | V5: =IFERROR(V4,0) -> 0 | W5: =IFERROR(W4,0) -> 0 | X5: =IFERROR(X4,0) -> 0 | Y5: =IFERROR(Y4,0) -> 0 | Z5: =IFERROR(Z4,0) -> 0 | AA5: =IFERROR(AA4,0) -> 0 | ... AW5: =IFERROR(AW4,0) -> 0
A6: =Arasınav!A6 -> T4 | B6: =$B$1*Arasınav!AF6 -> 0 | C6: =$C$1*Ödev!AF6 -> 0 | D6: =$D$1*Proje!AF6 -> 0 | E6: =$E$1*Final!AF6 -> 57 | F6: =B6+C6+D6+E6 -> 57 | H6: =IF(F6>$I$1,"G","K") -> G | I6: =IF(H6="G", 1,0) -> 1 | K6: =IF(I6=1,0,1) -> 0 | L6: =K6*$L$1*But!AF6 -> 0 | M6: =IF(K6=1, B6+C6+D6+L6,0) -> 0 | N6: =IF(M6>$I$1,"G","K") -> K | O6: =IF(N6="G", 1,0) -> 0 | P6: =IF(I6+O6=1,1,0) -> 1 | Q6: =Q3-J3 -> 4
A7: =Arasınav!A7 -> T5 | B7: =$B$1*Arasınav!AF7 -> 0 | C7: =$C$1*Ödev!AF7 -> 0 | D7: =$D$1*Proje!AF7 -> 0 | E7: =$E$1*Final!AF7 -> 6 | F7: =B7+C7+D7+E7 -> 6 | H7: =IF(F7>$I$1,"G","K") -> K | I7: =IF(H7="G", 1,0) -> 0 | K7: =IF(I7=1,0,1) -> 1 | L7: =K7*$L$1*But!AF7 -> 58.2 | M7: =IF(K7=1, B7+C7+D7+L7,0) -> 58.2 | N7: =IF(M7>$I$1,"G","K") -> G | O7: =IF(N7="G", 1,0) -> 1 | P7: =IF(I7+O7=1,1,0) -> 1 | T7: Ö1 | U7: Ö2 | V7: Ö3 | W7: Ö4 | X7: Ö5 | Y7: Ö6 | Z7: Ö7 | AA7: Ö8 | AB7: Ö9 | AC7: Ö10 | AD7: Ö11 | AE7: Ö12 | AF7: Ö13 | AG7: Ö14 | AH7: Ö15 | AI7: Ö16 | AJ7: Ö17 | AK7: Ö18 | AL7: Ö19 | AM7: Ö20 | AN7: Ö21 | AO7: Ö22 | AP7: Ö23 | AQ7: Ö24 | AR7: Ö25 | AS7: Ö26 | AT7: Ö27 | AU7: Ö28 | AV7: Ö29 | AW7: Ö30
A8: =Arasınav!A8 -> T6 | B8: =$B$1*Arasınav!AF8 -> 0 | C8: =$C$1*Ödev!AF8 -> 0 | D8: =$D$1*Proje!AF8 -> 0 | E8: =$E$1*Final!AF8 -> 60 | F8: =B8+C8+D8+E8 -> 60 | H8: =IF(F8>$I$1,"G","K") -> G | I8: =IF(H8="G", 1,0) -> 1 | K8: =IF(I8=1,0,1) -> 0 | L8: =K8*$L$1*But!AF8 -> 0 | M8: =IF(K8=1, B8+C8+D8+L8,0) -> 0 | N8: =IF(M8>$I$1,"G","K") -> K | O8: =IF(N8="G", 1,0) -> 0 | P8: =IF(I8+O8=1,1,0) -> 1 | S8: Ort | T8: =(((SUMPRODUCT($P3:$P202, Ödev!B3:'Ödev'!B202))/$Q3)) -> 0 | U8: =(((SUMPRODUCT($P3:$P202, Ödev!C3:'Ödev'!C202))/$Q3)) -> 0 | V8: =(((SUMPRODUCT($P3:$P202, Ödev!D3:'Ödev'!D202))/$Q3)) -> 0 | W8: =(((SUMPRODUCT($P3:$P202, Ödev!E3:'Ödev'!E202))/$Q3)) -> 0 | X8: =(((SUMPRODUCT($P3:$P202, Ödev!F3:'Ödev'!F202))/$Q3)) -> 0 | Y8: =(((SUMPRODUCT($P3:$P202, Ödev!G3:'Ödev'!G202))/$Q3)) -> 0 | Z8: =(((SUMPRODUCT($P3:$P202, Ödev!H3:'Ödev'!H202))/$Q3)) -> 0 | AA8: =(((SUMPRODUCT($P3:$P202, Ödev!I3:'Ödev'!I202))/$Q3)) -> 0 | ... AW8: =(((SUMPRODUCT($P3:$P202, Ödev!AE3:'Ödev'!AE202))/$Q3)) -> 0
A9: =Arasınav!A9 -> T7 | B9: =$B$1*Arasınav!AF9 -> 0 | C9: =$C$1*Ödev!AF9 -> 0 | D9: =$D$1*Proje!AF9 -> 0 | E9: =$E$1*Final!AF9 -> 54 | F9: =B9+C9+D9+E9 -> 54 | H9: =IF(F9>$I$1,"G","K") -> G | I9: =IF(H9="G", 1,0) -> 1 | K9: =IF(I9=1,0,1) -> 0 | L9: =K9*$L$1*But!AF9 -> 0 | M9: =IF(K9=1, B9+C9+D9+L9,0) -> 0 | N9: =IF(M9>$I$1,"G","K") -> K | O9: =IF(N9="G", 1,0) -> 0 | P9: =IF(I9+O9=1,1,0) -> 1 | T9: =(((SUMPRODUCT($P3:$P202, Ödev!B3:'Ödev'!B202))/$Q3)/Ödev!B1)*100 -> #DIV/0! | U9: =(((SUMPRODUCT($P3:$P202, Ödev!C3:'Ödev'!C202))/$Q3)/Ödev!C1)*100 -> #DIV/0! | V9: =(((SUMPRODUCT($P3:$P202, Ödev!D3:'Ödev'!D202))/$Q3)/Ödev!D1)*100 -> #DIV/0! | W9: =(((SUMPRODUCT($P3:$P202, Ödev!E3:'Ödev'!E202))/$Q3)/Ödev!E1)*100 -> #DIV/0! | X9: =(((SUMPRODUCT($P3:$P202, Ödev!F3:'Ödev'!F202))/$Q3)/Ödev!F1)*100 -> #DIV/0! | Y9: =(((SUMPRODUCT($P3:$P202, Ödev!G3:'Ödev'!G202))/$Q3)/Ödev!G1)*100 -> #DIV/0! | Z9: =(((SUMPRODUCT($P3:$P202, Ödev!H3:'Ödev'!H202))/$Q3)/Ödev!H1)*100 -> #DIV/0! | AA9: =(((SUMPRODUCT($P3:$P202, Ödev!I3:'Ödev'!I202))/$Q3)/Ödev!I1)*100 -> #DIV/0! | ... AE9: =(((SUMPRODUCT($P3:$P202, Ödev!M3:'Ödev'!M202))/$Q3)/Ödev!M1)*100 -> #DIV/0! | AF9: =(((SUMPRODUCT($I3:$I202, Ödev!N3:'Ödev'!N202))/$J3)/Ödev!N1)*100 -> #DIV/0! | AG9: =(((SUMPRODUCT($P3:$P202, Ödev!O3:'Ödev'!O202))/$Q3)/Ödev!O1)*100 -> #DIV/0! | AH9: =(((SUMPRODUCT($P3:$P202, Ödev!P3:'Ödev'!P202))/$Q3)/Ödev!P1)*100 -> #DIV/0! | AI9: =(((SUMPRODUCT($P3:$P202, Ödev!Q3:'Ödev'!Q202))/$Q3)/Ödev!Q1)*100 -> #DIV/0! | AJ9: =(((SUMPRODUCT($P3:$P202, Ödev!R3:'Ödev'!R202))/$Q3)/Ödev!R1)*100 -> #DIV/0! | AK9: =(((SUMPRODUCT($P3:$P202, Ödev!S3:'Ödev'!S202))/$Q3)/Ödev!S1)*100 -> #DIV/0! | AL9: =(((SUMPRODUCT($P3:$P202, Ödev!T3:'Ödev'!T202))/$Q3)/Ödev!T1)*100 -> #DIV/0! | AM9: =(((SUMPRODUCT($P3:$P202, Ödev!U3:'Ödev'!U202))/$Q3)/Ödev!U1)*100 -> #DIV/0! | AN9: =(((SUMPRODUCT($P3:$P202, Ödev!V3:'Ödev'!V202))/$Q3)/Ödev!V1)*100 -> #DIV/0! | ... AQ9: =(((SUMPRODUCT($P3:$P202, Ödev!Y3:'Ödev'!Y202))/$Q3)/Ödev!Y1)*100 -> #DIV/0! | AR9: =(((SUMPRODUCT($I3:$I202, Ödev!Z3:'Ödev'!Z202))/$J3)/Ödev!Z1)*100 -> #DIV/0! | AS9: =(((SUMPRODUCT($P3:$P202, Ödev!AA3:'Ödev'!AA202))/$Q3)/Ödev!AA1)*100 -> #DIV/0! | AT9: =(((SUMPRODUCT($P3:$P202, Ödev!AB3:'Ödev'!AB202))/$Q3)/Ödev!AB1)*100 -> #DIV/0! | AU9: =(((SUMPRODUCT($P3:$P202, Ödev!AC3:'Ödev'!AC202))/$Q3)/Ödev!AC1)*100 -> #DIV/0! | AV9: =(((SUMPRODUCT($P3:$P202, Ödev!AD3:'Ödev'!AD202))/$Q3)/Ödev!AD1)*100 -> #DIV/0! | AW9: =(((SUMPRODUCT($P3:$P202, Ödev!AE3:'Ödev'!AE202))/$Q3)/Ödev!AE1)*100 -> #DIV/0!
A10: =Arasınav!A10 -> T8 | B10: =$B$1*Arasınav!AF10 -> 0 | C10: =$C$1*Ödev!AF10 -> 0 | D10: =$D$1*Proje!AF10 -> 0 | E10: =$E$1*Final!AF10 -> 42 | F10: =B10+C10+D10+E10 -> 42 | H10: =IF(F10>$I$1,"G","K") -> G | I10: =IF(H10="G", 1,0) -> 1 | K10: =IF(I10=1,0,1) -> 0 | L10: =K10*$L$1*But!AF10 -> 0 | M10: =IF(K10=1, B10+C10+D10+L10,0) -> 0 | N10: =IF(M10>$I$1,"G","K") -> K | O10: =IF(N10="G", 1,0) -> 0 | P10: =IF(I10+O10=1,1,0) -> 1 | S10: % | T10: =IFERROR(T9,0) -> 0 | U10: =IFERROR(U9,0) -> 0 | V10: =IFERROR(V9,0) -> 0 | W10: =IFERROR(W9,0) -> 0 | X10: =IFERROR(X9,0) -> 0 | Y10: =IFERROR(Y9,0) -> 0 | Z10: =IFERROR(Z9,0) -> 0 | AA10: =IFERROR(AA9,0) -> 0 | ... AW10: =IFERROR(AW9,0) -> 0
A11: =Arasınav!A11 -> T9 | B11: =$B$1*Arasınav!AF11 -> 0 | C11: =$C$1*Ödev!AF11 -> 0 | D11: =$D$1*Proje!AF11 -> 0 | E11: =$E$1*Final!AF11 -> 18 | F11: =B11+C11+D11+E11 -> 18 | H11: =IF(F11>$I$1,"G","K") -> K | I11: =IF(H11="G", 1,0) -> 0 | K11: =IF(I11=1,0,1) -> 1 | L11: =K11*$L$1*But!AF11 -> 0 | M11: =IF(K11=1, B11+C11+D11+L11,0) -> 0 | N11: =IF(M11>$I$1,"G","K") -> K | O11: =IF(N11="G", 1,0) -> 0 | P11: =IF(I11+O11=1,1,0) -> 0
A12: =Arasınav!A12 -> T10 | B12: =$B$1*Arasınav!AF12 -> 0 | C12: =$C$1*Ödev!AF12 -> 0 | D12: =$D$1*Proje!AF12 -> 0 | E12: =$E$1*Final!AF12 -> 24 | F12: =B12+C12+D12+E12 -> 24 | H12: =IF(F12>$I$1,"G","K") -> K | I12: =IF(H12="G", 1,0) -> 0 | K12: =IF(I12=1,0,1) -> 1 | L12: =K12*$L$1*But!AF12 -> 0 | M12: =IF(K12=1, B12+C12+D12+L12,0) -> 0 | N12: =IF(M12>$I$1,"G","K") -> K | O12: =IF(N12="G", 1,0) -> 0 | P12: =IF(I12+O12=1,1,0) -> 0 | T12: P1 | U12: P2 | V12: P3 | W12: P4 | X12: P5 | Y12: P6 | Z12: P7 | AA12: P8 | AB12: P9 | AC12: P10 | AD12: P11 | AE12: P12 | AF12: P13 | AG12: P14 | AH12: P15 | AI12: P16 | AJ12: P17 | AK12: P18 | AL12: P19 | AM12: P20 | AN12: P21 | AO12: P22 | AP12: P23 | AQ12: P24 | AR12: P25 | AS12: P26 | AT12: P27 | AU12: P28 | AV12: P29 | AW12: P30
A13: =Arasınav!A13 -> T11 | B13: =$B$1*Arasınav!AF13 -> 0 | C13: =$C$1*Ödev!AF13 -> 0 | D13: =$D$1*Proje!AF13 -> 0 | E13: =$E$1*Final!AF13 -> 27 | F13: =B13+C13+D13+E13 -> 27 | H13: =IF(F13>$I$1,"G","K") -> K | I13: =IF(H13="G", 1,0) -> 0 | K13: =IF(I13=1,0,1) -> 1 | L13: =K13*$L$1*But!AF13 -> 0 | M13: =IF(K13=1, B13+C13+D13+L13,0) -> 0 | N13: =IF(M13>$I$1,"G","K") -> K | O13: =IF(N13="G", 1,0) -> 0 | P13: =IF(I13+O13=1,1,0) -> 0 | S13: Ort | T13: =(((SUMPRODUCT($P3:$P202, Proje!B3:'Proje'!B202))/$Q3)) -> 0 | U13: =(((SUMPRODUCT($P3:$P202, Proje!C3:'Proje'!C202))/$Q3)) -> 0 | V13: =(((SUMPRODUCT($P3:$P202, Proje!D3:'Proje'!D202))/$Q3)) -> 0 | W13: =(((SUMPRODUCT($P3:$P202, Proje!E3:'Proje'!E202))/$Q3)) -> 0 | X13: =(((SUMPRODUCT($P3:$P202, Proje!F3:'Proje'!F202))/$Q3)) -> 0 | Y13: =(((SUMPRODUCT($P3:$P202, Proje!G3:'Proje'!G202))/$Q3)) -> 0 | Z13: =(((SUMPRODUCT($P3:$P202, Proje!H3:'Proje'!H202))/$Q3)) -> 0 | AA13: =(((SUMPRODUCT($P3:$P202, Proje!I3:'Proje'!I202))/$Q3)) -> 0 | ... AW13: =(((SUMPRODUCT($P3:$P202, Proje!AE3:'Proje'!AE202))/$Q3)) -> 0
A14: =Arasınav!A14 -> T12 | B14: =$B$1*Arasınav!AF14 -> 0 | C14: =$C$1*Ödev!AF14 -> 0 | D14: =$D$1*Proje!AF14 -> 0 | E14: =$E$1*Final!AF14 -> 0 | F14: =B14+C14+D14+E14 -> 0 | H14: =IF(F14>$I$1,"G","K") -> K | I14: =IF(H14="G", 1,0) -> 0 | K14: =IF(I14=1,0,1) -> 1 | L14: =K14*$L$1*But!AF14 -> 60 | M14: =IF(K14=1, B14+C14+D14+L14,0) -> 60 | N14: =IF(M14>$I$1,"G","K") -> G | O14: =IF(N14="G", 1,0) -> 1 | P14: =IF(I14+O14=1,1,0) -> 1 | T14: =(((SUMPRODUCT($P3:$P202, Proje!B3:'Proje'!B202))/$Q3)/Proje!B1)*100 -> #DIV/0! | U14: =(((SUMPRODUCT($P3:$P202, Proje!C3:'Proje'!C202))/$Q3)/Proje!C1)*100 -> #DIV/0! | V14: =(((SUMPRODUCT($P3:$P202, Proje!D3:'Proje'!D202))/$Q3)/Proje!D1)*100 -> #DIV/0! | W14: =(((SUMPRODUCT($P3:$P202, Proje!E3:'Proje'!E202))/$Q3)/Proje!E1)*100 -> #DIV/0! | X14: =(((SUMPRODUCT($P3:$P202, Proje!F3:'Proje'!F202))/$Q3)/Proje!F1)*100 -> #DIV/0! | Y14: =(((SUMPRODUCT($P3:$P202, Proje!G3:'Proje'!G202))/$Q3)/Proje!G1)*100 -> #DIV/0! | Z14: =(((SUMPRODUCT($P3:$P202, Proje!H3:'Proje'!H202))/$Q3)/Proje!H1)*100 -> #DIV/0! | AA14: =(((SUMPRODUCT($P3:$P202, Proje!I3:'Proje'!I202))/$Q3)/Proje!I1)*100 -> #DIV/0! | ... AW14: =(((SUMPRODUCT($P3:$P202, Proje!AE3:'Proje'!AE202))/$Q3)/Proje!AE1)*100 -> #DIV/0!
A15: =Arasınav!A15 -> T13 | B15: =$B$1*Arasınav!AF15 -> 0 | C15: =$C$1*Ödev!AF15 -> 0 | D15: =$D$1*Proje!AF15 -> 0 | E15: =$E$1*Final!AF15 -> 24 | F15: =B15+C15+D15+E15 -> 24 | H15: =IF(F15>$I$1,"G","K") -> K | I15: =IF(H15="G", 1,0) -> 0 | K15: =IF(I15=1,0,1) -> 1 | L15: =K15*$L$1*But!AF15 -> 57 | M15: =IF(K15=1, B15+C15+D15+L15,0) -> 57 | N15: =IF(M15>$I$1,"G","K") -> G | O15: =IF(N15="G", 1,0) -> 1 | P15: =IF(I15+O15=1,1,0) -> 1 | S15: % | T15: =IFERROR(T14,0) -> 0 | U15: =IFERROR(U14,0) -> 0 | V15: =IFERROR(V14,0) -> 0 | W15: =IFERROR(W14,0) -> 0 | X15: =IFERROR(X14,0) -> 0 | Y15: =IFERROR(Y14,0) -> 0 | Z15: =IFERROR(Z14,0) -> 0 | AA15: =IFERROR(AA14,0) -> 0 | ... AW15: =IFERROR(AW14,0) -> 0
A16: =Arasınav!A16 -> T14 | B16: =$B$1*Arasınav!AF16 -> 0 | C16: =$C$1*Ödev!AF16 -> 0 | D16: =$D$1*Proje!AF16 -> 0 | E16: =$E$1*Final!AF16 -> 6 | F16: =B16+C16+D16+E16 -> 6 | H16: =IF(F16>$I$1,"G","K") -> K | I16: =IF(H16="G", 1,0) -> 0 | K16: =IF(I16=1,0,1) -> 1 | L16: =K16*$L$1*But!AF16 -> 39 | M16: =IF(K16=1, B16+C16+D16+L16,0) -> 39 | N16: =IF(M16>$I$1,"G","K") -> K | O16: =IF(N16="G", 1,0) -> 0 | P16: =IF(I16+O16=1,1,0) -> 0
A17: =Arasınav!A17 -> T15 | B17: =$B$1*Arasınav!AF17 -> 0 | C17: =$C$1*Ödev!AF17 -> 0 | D17: =$D$1*Proje!AF17 -> 0 | E17: =$E$1*Final!AF17 -> 51 | F17: =B17+C17+D17+E17 -> 51 | H17: =IF(F17>$I$1,"G","K") -> G | I17: =IF(H17="G", 1,0) -> 1 | K17: =IF(I17=1,0,1) -> 0 | L17: =K17*$L$1*But!AF17 -> 0 | M17: =IF(K17=1, B17+C17+D17+L17,0) -> 0 | N17: =IF(M17>$I$1,"G","K") -> K | O17: =IF(N17="G", 1,0) -> 0 | P17: =IF(I17+O17=1,1,0) -> 1 | T17: F1 | U17: F2 | V17: F3 | W17: F4 | X17: F5 | Y17: F6 | Z17: F7 | AA17: F8 | AB17: F9 | AC17: F10 | AD17: F11 | AE17: F12 | AF17: F13 | AG17: F14 | AH17: F15 | AI17: F16 | AJ17: F17 | AK17: F18 | AL17: F19 | AM17: F20 | AN17: F21 | AO17: F22 | AP17: F23 | AQ17: F24 | AR17: F25 | AS17: F26 | AT17: F27 | AU17: F28 | AV17: F29 | AW17: F30
A18: =Arasınav!A18 -> T16 | B18: =$B$1*Arasınav!AF18 -> 0 | C18: =$C$1*Ödev!AF18 -> 0 | D18: =$D$1*Proje!AF18 -> 0 | E18: =$E$1*Final!AF18 -> 9 | F18: =B18+C18+D18+E18 -> 9 | H18: =IF(F18>$I$1,"G","K") -> K | I18: =IF(H18="G", 1,0) -> 0 | K18: =IF(I18=1,0,1) -> 1 | L18: =K18*$L$1*But!AF18 -> 37.2 | M18: =IF(K18=1, B18+C18+D18+L18,0) -> 37.2 | N18: =IF(M18>$I$1,"G","K") -> K | O18: =IF(N18="G", 1,0) -> 0 | P18: =IF(I18+O18=1,1,0) -> 0 | S18: Ort | T18: =(((SUMPRODUCT($P3:$P202, Final!B3:'Final'!B202))/$Q3)) -> 66.538462 | U18: =(((SUMPRODUCT($P3:$P202, Final!C3:'Final'!C202))/$Q3)) -> 0 | V18: =(((SUMPRODUCT($P3:$P202, Final!D3:'Final'!D202))/$Q3)) -> 0 | W18: =(((SUMPRODUCT($P3:$P202, Final!E3:'Final'!E202))/$Q3)) -> 0 | X18: =(((SUMPRODUCT($P3:$P202, Final!F3:'Final'!F202))/$Q3)) -> 0 | Y18: =(((SUMPRODUCT($P3:$P202, Final!G3:'Final'!G202))/$Q3)) -> 0 | Z18: =(((SUMPRODUCT($P3:$P202, Final!H3:'Final'!H202))/$Q3)) -> 0 | AA18: =(((SUMPRODUCT($P3:$P202, Final!I3:'Final'!I202))/$Q3)) -> 0 | ... AW18: =(((SUMPRODUCT($P3:$P202, Final!AE3:'Final'!AE202))/$Q3)) -> 0
A19: =Arasınav!A19 -> T17 | B19: =$B$1*Arasınav!AF19 -> 0 | C19: =$C$1*Ödev!AF19 -> 0 | D19: =$D$1*Proje!AF19 -> 0 | E19: =$E$1*Final!AF19 -> 33 | F19: =B19+C19+D19+E19 -> 33 | H19: =IF(F19>$I$1,"G","K") -> K | I19: =IF(H19="G", 1,0) -> 0 | K19: =IF(I19=1,0,1) -> 1 | L19: =K19*$L$1*But!AF19 -> 0 | M19: =IF(K19=1, B19+C19+D19+L19,0) -> 0 | N19: =IF(M19>$I$1,"G","K") -> K | O19: =IF(N19="G", 1,0) -> 0 | P19: =IF(I19+O19=1,1,0) -> 0 | T19: =(((SUMPRODUCT($P3:$P202, Final!B3:'Final'!B202))/$Q3)/Final!B1)*100 -> 66.538462 | U19: =(((SUMPRODUCT($P3:$P202, Final!C3:'Final'!C202))/$Q3)/Final!C1)*100 -> #DIV/0! | V19: =(((SUMPRODUCT($P3:$P202, Final!D3:'Final'!D202))/$Q3)/Final!D1)*100 -> #DIV/0! | W19: =(((SUMPRODUCT($P3:$P202, Final!E3:'Final'!E202))/$J3)/Final!E1)*100 -> #DIV/0! | X19: =(((SUMPRODUCT($P3:$P202, Final!F3:'Final'!F202))/$Q3)/Final!F1)*100 -> #DIV/0! | Y19: =(((SUMPRODUCT($P3:$P202, Final!G3:'Final'!G202))/$Q3)/Final!G1)*100 -> #DIV/0! | Z19: =(((SUMPRODUCT($P3:$P202, Final!H3:'Final'!H202))/$Q3)/Final!H1)*100 -> #DIV/0! | AA19: =(((SUMPRODUCT($P3:$P202, Final!I3:'Final'!I202))/$Q3)/Final!I1)*100 -> #DIV/0! | AB19: =(((SUMPRODUCT($P3:$P202, Final!J3:'Final'!J202))/$Q3)/Final!J1)*100 -> #DIV/0! | AC19: =(((SUMPRODUCT($P3:$P202, Final!K3:'Final'!K202))/$Q3)/Final!K1)*100 -> #DIV/0! | AD19: =(((SUMPRODUCT($P3:$P202, Final!L3:'Final'!L202))/$Q3)/Final!L1)*100 -> #DIV/0! | AE19: =(((SUMPRODUCT($P3:$P202, Final!M3:'Final'!M202))/$Q3)/Final!M1)*100 -> #DIV/0! | ... AW19: =(((SUMPRODUCT($P3:$P202, Final!AE3:'Final'!AE202))/$Q3)/Final!AE1)*100 -> #DIV/0!
A20: =Arasınav!A20 -> T18 | B20: =$B$1*Arasınav!AF20 -> 0 | C20: =$C$1*Ödev!AF20 -> 0 | D20: =$D$1*Proje!AF20 -> 0 | E20: =$E$1*Final!AF20 -> 54 | F20: =B20+C20+D20+E20 -> 54 | H20: =IF(F20>$I$1,"G","K") -> G | I20: =IF(H20="G", 1,0) -> 1 | K20: =IF(I20=1,0,1) -> 0 | L20: =K20*$L$1*But!AF20 -> 0 | M20: =IF(K20=1, B20+C20+D20+L20,0) -> 0 | N20: =IF(M20>$I$1,"G","K") -> K | O20: =IF(N20="G", 1,0) -> 0 | P20: =IF(I20+O20=1,1,0) -> 1 | S20: % | T20: =IFERROR(T19,0) -> 66.538462 | U20: =IFERROR(U19,0) -> 0 | V20: =IFERROR(V19,0) -> 0 | W20: =IFERROR(W19,0) -> 0 | X20: =IFERROR(X19,0) -> 0 | Y20: =IFERROR(Y19,0) -> 0 | Z20: =IFERROR(Z19,0) -> 0 | AA20: =IFERROR(AA19,0) -> 0 | ... AW20: =IFERROR(AW19,0) -> 0
A21: =Arasınav!A21 -> T19 | B21: =$B$1*Arasınav!AF21 -> 0 | C21: =$C$1*Ödev!AF21 -> 0 | D21: =$D$1*Proje!AF21 -> 0 | E21: =$E$1*Final!AF21 -> 54 | F21: =B21+C21+D21+E21 -> 54 | H21: =IF(F21>$I$1,"G","K") -> G | I21: =IF(H21="G", 1,0) -> 1 | K21: =IF(I21=1,0,1) -> 0 | L21: =K21*$L$1*But!AF21 -> 0 | M21: =IF(K21=1, B21+C21+D21+L21,0) -> 0 | N21: =IF(M21>$I$1,"G","K") -> K | O21: =IF(N21="G", 1,0) -> 0 | P21: =IF(I21+O21=1,1,0) -> 1
A22: =Arasınav!A22 -> T20 | B22: =$B$1*Arasınav!AF22 -> 0 | C22: =$C$1*Ödev!AF22 -> 0 | D22: =$D$1*Proje!AF22 -> 0 | E22: =$E$1*Final!AF22 -> 18 | F22: =B22+C22+D22+E22 -> 18 | H22: =IF(F22>$I$1,"G","K") -> K | I22: =IF(H22="G", 1,0) -> 0 | K22: =IF(I22=1,0,1) -> 1 | L22: =K22*$L$1*But!AF22 -> 36 | M22: =IF(K22=1, B22+C22+D22+L22,0) -> 36 | N22: =IF(M22>$I$1,"G","K") -> K | O22: =IF(N22="G", 1,0) -> 0 | P22: =IF(I22+O22=1,1,0) -> 0 | T22: B1 | U22: B2 | V22: B3 | W22: B4 | X22: B5 | Y22: B6 | Z22: B7 | AA22: B8 | AB22: B9 | AC22: B10 | AD22: B11 | AE22: B12 | AF22: B13 | AG22: B14 | AH22: B15 | AI22: B16 | AJ22: B17 | AK22: B18 | AL22: B19 | AM22: B20 | AN22: B21 | AO22: B22 | AP22: B23 | AQ22: B24 | AR22: B25 | AS22: B26 | AT22: B27 | AU22: B28 | AV22: B29 | AW22: B30
A23: =Arasınav!A23 -> T21 | B23: =$B$1*Arasınav!AF23 -> 0 | C23: =$C$1*Ödev!AF23 -> 0 | D23: =$D$1*Proje!AF23 -> 0 | E23: =$E$1*Final!AF23 -> 42 | F23: =B23+C23+D23+E23 -> 42 | H23: =IF(F23>$I$1,"G","K") -> G | I23: =IF(H23="G", 1,0) -> 1 | K23: =IF(I23=1,0,1) -> 0 | L23: =K23*$L$1*But!AF23 -> 0 | M23: =IF(K23=1, B23+C23+D23+L23,0) -> 0 | N23: =IF(M23>$I$1,"G","K") -> K | O23: =IF(N23="G", 1,0) -> 0 | P23: =IF(I23+O23=1,1,0) -> 1 | S23: Ort | T23: =(((SUMPRODUCT($P3:$P202, But!B3:'But'!B202))/$Q6)) -> 98 | U23: =(((SUMPRODUCT($P3:$P202, But!C3:'But'!C202))/$Q6)) -> 0 | V23: =(((SUMPRODUCT($P3:$P202, But!D3:'But'!D202))/$Q6)) -> 0 | W23: =(((SUMPRODUCT($P3:$P202, But!E3:'But'!E202))/$Q6)) -> 0 | X23: =(((SUMPRODUCT($P3:$P202, But!F3:'But'!F202))/$Q6)) -> 0 | Y23: =(((SUMPRODUCT($P3:$P202, But!G3:'But'!G202))/$Q6)) -> 0 | Z23: =(((SUMPRODUCT($P3:$P202, But!H3:'But'!H202))/$Q6)) -> 0 | AA23: =(((SUMPRODUCT($P3:$P202, But!I3:'But'!I202))/$Q6)) -> 0 | ... AW23: =(((SUMPRODUCT($P3:$P202, But!AE3:'But'!AE202))/$Q6)) -> 0
A24: =Arasınav!A24 -> T22 | B24: =$B$1*Arasınav!AF24 -> 0 | C24: =$C$1*Ödev!AF24 -> 0 | D24: =$D$1*Proje!AF24 -> 0 | E24: =$E$1*Final!AF24 -> 39 | F24: =B24+C24+D24+E24 -> 39 | H24: =IF(F24>$I$1,"G","K") -> K | I24: =IF(H24="G", 1,0) -> 0 | K24: =IF(I24=1,0,1) -> 1 | L24: =K24*$L$1*But!AF24 -> 0 | M24: =IF(K24=1, B24+C24+D24+L24,0) -> 0 | N24: =IF(M24>$I$1,"G","K") -> K | O24: =IF(N24="G", 1,0) -> 0 | P24: =IF(I24+O24=1,1,0) -> 0 | T24: =(((SUMPRODUCT($P3:$P202, But!B3:'But'!B202))/$Q6)/But!B1)*100 -> 98 | U24: =(((SUMPRODUCT($P3:$P202, But!C3:'But'!C202))/$Q6)/But!C1)*100 -> #DIV/0! | V24: =(((SUMPRODUCT($P3:$P202, But!D3:'But'!D202))/$Q6)/But!D1)*100 -> #DIV/0! | W24: =(((SUMPRODUCT($P3:$P202, But!E3:'But'!E202))/$Q6)/But!E1)*100 -> #DIV/0! | X24: =(((SUMPRODUCT($P3:$P202, But!F3:'But'!F202))/$Q6)/But!F1)*100 -> #DIV/0! | Y24: =(((SUMPRODUCT($P3:$P202, But!G3:'But'!G202))/$Q6)/But!G1)*100 -> #DIV/0! | Z24: =(((SUMPRODUCT($P3:$P202, But!H3:'But'!H202))/$Q6)/But!H1)*100 -> #DIV/0! | AA24: =(((SUMPRODUCT($P3:$P202, But!I3:'But'!I202))/$Q6)/But!I1)*100 -> #DIV/0! | ... AW24: =(((SUMPRODUCT($P3:$P202, But!AE3:'But'!AE202))/$Q6)/But!AE1)*100 -> #DIV/0!
A25: =Arasınav!A25 -> T23 | B25: =$B$1*Arasınav!AF25 -> 0 | C25: =$C$1*Ödev!AF25 -> 0 | D25: =$D$1*Proje!AF25 -> 0 | E25: =$E$1*Final!AF25 -> 18 | F25: =B25+C25+D25+E25 -> 18 | H25: =IF(F25>$I$1,"G","K") -> K | I25: =IF(H25="G", 1,0) -> 0 | K25: =IF(I25=1,0,1) -> 1 | L25: =K25*$L$1*But!AF25 -> 0 | M25: =IF(K25=1, B25+C25+D25+L25,0) -> 0 | N25: =IF(M25>$I$1,"G","K") -> K | O25: =IF(N25="G", 1,0) -> 0 | P25: =IF(I25+O25=1,1,0) -> 0 | S25: % | T25: =IFERROR(T24,0) -> 98 | U25: =IFERROR(U24,0) -> 0 | V25: =IFERROR(V24,0) -> 0 | W25: =IFERROR(W24,0) -> 0 | X25: =IFERROR(X24,0) -> 0 | Y25: =IFERROR(Y24,0) -> 0 | Z25: =IFERROR(Z24,0) -> 0 | AA25: =IFERROR(AA24,0) -> 0 | ... AW25: =IFERROR(AW24,0) -> 0
A26: =Arasınav!A26 -> T24 | B26: =$B$1*Arasınav!AF26 -> 0 | C26: =$C$1*Ödev!AF26 -> 0 | D26: =$D$1*Proje!AF26 -> 0 | E26: =$E$1*Final!AF26 -> 39 | F26: =B26+C26+D26+E26 -> 39 | H26: =IF(F26>$I$1,"G","K") -> K | I26: =IF(H26="G", 1,0) -> 0 | K26: =IF(I26=1,0,1) -> 1 | L26: =K26*$L$1*But!AF26 -> 0 | M26: =IF(K26=1, B26+C26+D26+L26,0) -> 0 | N26: =IF(M26>$I$1,"G","K") -> K | O26: =IF(N26="G", 1,0) -> 0 | P26: =IF(I26+O26=1,1,0) -> 0
A27: =Arasınav!A27 -> T25 | B27: =$B$1*Arasınav!AF27 -> 0 | C27: =$C$1*Ödev!AF27 -> 0 | D27: =$D$1*Proje!AF27 -> 0 | E27: =$E$1*Final!AF27 -> 24 | F27: =B27+C27+D27+E27 -> 24 | H27: =IF(F27>$I$1,"G","K") -> K | I27: =IF(H27="G", 1,0) -> 0 | K27: =IF(I27=1,0,1) -> 1 | L27: =K27*$L$1*But!AF27 -> 60 | M27: =IF(K27=1, B27+C27+D27+L27,0) -> 60 | N27: =IF(M27>$I$1,"G","K") -> G | O27: =IF(N27="G", 1,0) -> 1 | P27: =IF(I27+O27=1,1,0) -> 1
A28: =Arasınav!A28 -> T26 | B28: =$B$1*Arasınav!AF28 -> 0 | C28: =$C$1*Ödev!AF28 -> 0 | D28: =$D$1*Proje!AF28 -> 0 | E28: =$E$1*Final!AF28 -> 18 | F28: =B28+C28+D28+E28 -> 18 | H28: =IF(F28>$I$1,"G","K") -> K | I28: =IF(H28="G", 1,0) -> 0 | K28: =IF(I28=1,0,1) -> 1 | L28: =K28*$L$1*But!AF28 -> 0 | M28: =IF(K28=1, B28+C28+D28+L28,0) -> 0 | N28: =IF(M28>$I$1,"G","K") -> K | O28: =IF(N28="G", 1,0) -> 0 | P28: =IF(I28+O28=1,1,0) -> 0
A29: =Arasınav!A29 -> T27 | B29: =$B$1*Arasınav!AF29 -> 0 | C29: =$C$1*Ödev!AF29 -> 0 | D29: =$D$1*Proje!AF29 -> 0 | E29: =$E$1*Final!AF29 -> 27 | F29: =B29+C29+D29+E29 -> 27 | H29: =IF(F29>$I$1,"G","K") -> K | I29: =IF(H29="G", 1,0) -> 0 | K29: =IF(I29=1,0,1) -> 1 | L29: =K29*$L$1*But!AF29 -> 0 | M29: =IF(K29=1, B29+C29+D29+L29,0) -> 0 | N29: =IF(M29>$I$1,"G","K") -> K | O29: =IF(N29="G", 1,0) -> 0 | P29: =IF(I29+O29=1,1,0) -> 0 | T29: ÖÇ1 | U29: ÖÇ2 | V29: ÖÇ3 | W29: ÖÇ4 | X29: ÖÇ5 | Y29: ÖÇ6 | Z29: ÖÇ7 | AA29: ÖÇ8 | AB29: ÖÇ9 | AC29: ÖÇ10
A30: =Arasınav!A30 -> T28 | B30: =$B$1*Arasınav!AF30 -> 0 | C30: =$C$1*Ödev!AF30 -> 0 | D30: =$D$1*Proje!AF30 -> 0 | E30: =$E$1*Final!AF30 -> 0 | F30: =B30+C30+D30+E30 -> 0 | H30: =IF(F30>$I$1,"G","K") -> K | I30: =IF(H30="G", 1,0) -> 0 | K30: =IF(I30=1,0,1) -> 1 | L30: =K30*$L$1*But!AF30 -> 0 | M30: =IF(K30=1, B30+C30+D30+L30,0) -> 0 | N30: =IF(M30>$I$1,"G","K") -> K | O30: =IF(N30="G", 1,0) -> 0 | P30: =IF(I30+O30=1,1,0) -> 0 | T30: =COUNTIF(ArasınavOGR!B3:AE3,1)+COUNTIF(ÖdevOGR!B3:AE3,1)+COUNTIF(ProjeOGR!B3:AE3,1)+COUNTIF(FinalOGR!B3:AE3,1) -> 2 | U30: =COUNTIF(ArasınavOGR!B4:AE4,1)+COUNTIF(ÖdevOGR!B4:AE4,1)+COUNTIF(ProjeOGR!B4:AE4,1)+COUNTIF(FinalOGR!B4:AE4,1) -> 2 | V30: =COUNTIF(ArasınavOGR!B5:AE5,1)+COUNTIF(ÖdevOGR!B5:AE5,1)+COUNTIF(ProjeOGR!B5:AE5,1)+COUNTIF(FinalOGR!B5:AE5,1) -> 2 | W30: =COUNTIF(ArasınavOGR!B6:AE6,1)+COUNTIF(ÖdevOGR!B6:AE6,1)+COUNTIF(ProjeOGR!B6:AE6,1)+COUNTIF(FinalOGR!B6:AE6,1) -> 2 | X30: =COUNTIF(ArasınavOGR!B7:AE7,1)+COUNTIF(ÖdevOGR!B7:AE7,1)+COUNTIF(ProjeOGR!B7:AE7,1)+COUNTIF(FinalOGR!B7:AE7,1) -> 2 | Y30: =COUNTIF(ArasınavOGR!B8:AE8,1)+COUNTIF(ÖdevOGR!B8:AE8,1)+COUNTIF(ProjeOGR!B8:AE8,1)+COUNTIF(FinalOGR!B8:AE8,1) -> 0 | Z30: =COUNTIF(ArasınavOGR!B9:AE9,1)+COUNTIF(ÖdevOGR!B9:AE9,1)+COUNTIF(ProjeOGR!B9:AE9,1)+COUNTIF(FinalOGR!B9:AE9,1) -> 0 | AA30: =COUNTIF(ArasınavOGR!B10:AE10,1)+COUNTIF(ÖdevOGR!B10:AE10,1)+COUNTIF(ProjeOGR!B10:AE10,1)+COUNTIF(FinalOGR!B10:AE10,1) -> 0 | AB30: =COUNTIF(ArasınavOGR!B11:AE11,1)+COUNTIF(ÖdevOGR!B11:AE11,1)+COUNTIF(ProjeOGR!B11:AE11,1)+COUNTIF(FinalOGR!B11:AE11,1) -> 0 | AC30: =COUNTIF(ArasınavOGR!B12:AE12,1)+COUNTIF(ÖdevOGR!B12:AE12,1)+COUNTIF(ProjeOGR!B12:AE12,1)+COUNTIF(FinalOGR!B12:AE12,1) -> 0
A31: =Arasınav!A31 -> T29 | B31: =$B$1*Arasınav!AF31 -> 0 | C31: =$C$1*Ödev!AF31 -> 0 | D31: =$D$1*Proje!AF31 -> 0 | E31: =$E$1*Final!AF31 -> 0 | F31: =B31+C31+D31+E31 -> 0 | H31: =IF(F31>$I$1,"G","K") -> K | I31: =IF(H31="G", 1,0) -> 0 | K31: =IF(I31=1,0,1) -> 1 | L31: =K31*$L$1*But!AF31 -> 0 | M31: =IF(K31=1, B31+C31+D31+L31,0) -> 0 | N31: =IF(M31>$I$1,"G","K") -> K | O31: =IF(N31="G", 1,0) -> 0 | P31: =IF(I31+O31=1,1,0) -> 0
A32: =Arasınav!A32 -> T30 | B32: =$B$1*Arasınav!AF32 -> 0 | C32: =$C$1*Ödev!AF32 -> 0 | D32: =$D$1*Proje!AF32 -> 0 | E32: =$E$1*Final!AF32 -> 0 | F32: =B32+C32+D32+E32 -> 0 | H32: =IF(F32>$I$1,"G","K") -> K | I32: =IF(H32="G", 1,0) -> 0 | K32: =IF(I32=1,0,1) -> 1 | L32: =K32*$L$1*But!AF32 -> 0 | M32: =IF(K32=1, B32+C32+D32+L32,0) -> 0 | N32: =IF(M32>$I$1,"G","K") -> K | O32: =IF(N32="G", 1,0) -> 0 | P32: =IF(I32+O32=1,1,0) -> 0 | S32: A | T32: =SUMPRODUCT($T5:$AW5, ArasınavOGR!B3:'ArasınavOGR'!AE3) -> 0 | U32: =SUMPRODUCT($T5:$AW5, ArasınavOGR!B4:'ArasınavOGR'!AE4) -> 0 | V32: =SUMPRODUCT($T5:$AW5, ArasınavOGR!B5:'ArasınavOGR'!AE5) -> 0 | W32: =SUMPRODUCT($T5:$AW5, ArasınavOGR!B6:'ArasınavOGR'!AE6) -> 0 | X32: =SUMPRODUCT($T5:$AW5, ArasınavOGR!B7:'ArasınavOGR'!AE7) -> 0 | Y32: =SUMPRODUCT($T5:$AW5, ArasınavOGR!B8:'ArasınavOGR'!AE8) -> 0 | Z32: =SUMPRODUCT($T5:$AW5, ArasınavOGR!B9:'ArasınavOGR'!AE9) -> 0 | AA32: =SUMPRODUCT($T5:$AW5, ArasınavOGR!B10:'ArasınavOGR'!AE10) -> 0 | AB32: =SUMPRODUCT($T5:$AW5, ArasınavOGR!B11:'ArasınavOGR'!AE11) -> 0 | AC32: =SUMPRODUCT($T5:$AW5, ArasınavOGR!B12:'ArasınavOGR'!AE12) -> 0
A33: =Arasınav!A33 -> T31 | B33: =$B$1*Arasınav!AF33 -> 0 | C33: =$C$1*Ödev!AF33 -> 0 | D33: =$D$1*Proje!AF33 -> 0 | E33: =$E$1*Final!AF33 -> 0 | F33: =B33+C33+D33+E33 -> 0 | H33: =IF(F33>$I$1,"G","K") -> K | I33: =IF(H33="G", 1,0) -> 0 | K33: =IF(I33=1,0,1) -> 1 | L33: =K33*$L$1*But!AF33 -> 0 | M33: =IF(K33=1, B33+C33+D33+L33,0) -> 0 | N33: =IF(M33>$I$1,"G","K") -> K | O33: =IF(N33="G", 1,0) -> 0 | P33: =IF(I33+O33=1,1,0) -> 0 | S33: Ö | T33: =SUMPRODUCT($T10:$AW10, ÖdevOGR!B3:'ÖdevOGR'!AE3) -> 0 | U33: =SUMPRODUCT($T10:$AW10, ÖdevOGR!B4:'ÖdevOGR'!AE4) -> 0 | V33: =SUMPRODUCT($T10:$AW10, ÖdevOGR!B5:'ÖdevOGR'!AE5) -> 0 | W33: =SUMPRODUCT($T10:$AW10, ÖdevOGR!B6:'ÖdevOGR'!AE6) -> 0 | X33: =SUMPRODUCT($T10:$AW10, ÖdevOGR!B7:'ÖdevOGR'!AE7) -> 0 | Y33: =SUMPRODUCT($T10:$AW10, ÖdevOGR!B8:'ÖdevOGR'!AE8) -> 0 | Z33: =SUMPRODUCT($T10:$AW10, ÖdevOGR!B9:'ÖdevOGR'!AE9) -> 0 | AA33: =SUMPRODUCT($T10:$AW10, ÖdevOGR!B10:'ÖdevOGR'!AE10) -> 0 | AB33: =SUMPRODUCT($T10:$AW10, ÖdevOGR!B11:'ÖdevOGR'!AE11) -> 0 | AC33: =SUMPRODUCT($T10:$AW10, ÖdevOGR!B12:'ÖdevOGR'!AE12) -> 0
A34: =Arasınav!A34 -> T32 | B34: =$B$1*Arasınav!AF34 -> 0 | C34: =$C$1*Ödev!AF34 -> 0 | D34: =$D$1*Proje!AF34 -> 0 | E34: =$E$1*Final!AF34 -> 0 | F34: =B34+C34+D34+E34 -> 0 | H34: =IF(F34>$I$1,"G","K") -> K | I34: =IF(H34="G", 1,0) -> 0 | K34: =IF(I34=1,0,1) -> 1 | L34: =K34*$L$1*But!AF34 -> 0 | M34: =IF(K34=1, B34+C34+D34+L34,0) -> 0 | N34: =IF(M34>$I$1,"G","K") -> K | O34: =IF(N34="G", 1,0) -> 0 | P34: =IF(I34+O34=1,1,0) -> 0 | S34: P | T34: =SUMPRODUCT($T15:$AW15, ProjeOGR!B3:'ProjeOGR'!AE3) -> 0 | U34: =SUMPRODUCT($T15:$AW15, ProjeOGR!B4:'ProjeOGR'!AE4) -> 0 | V34: =SUMPRODUCT($T15:$AW15, ProjeOGR!B5:'ProjeOGR'!AE5) -> 0 | W34: =SUMPRODUCT($T15:$AW15, ProjeOGR!B6:'ProjeOGR'!AE6) -> 0 | X34: =SUMPRODUCT($T15:$AW15, ProjeOGR!B7:'ProjeOGR'!AE7) -> 0 | Y34: =SUMPRODUCT($T15:$AW15, ProjeOGR!B8:'ProjeOGR'!AE8) -> 0 | Z34: =SUMPRODUCT($T15:$AW15, ProjeOGR!B9:'ProjeOGR'!AE9) -> 0 | AA34: =SUMPRODUCT($T15:$AW15, ProjeOGR!B10:'ProjeOGR'!AE10) -> 0 | AB34: =SUMPRODUCT($T15:$AW15, ProjeOGR!B11:'ProjeOGR'!AE11) -> 0 | AC34: =SUMPRODUCT($T15:$AW15, ProjeOGR!B12:'ProjeOGR'!AE12) -> 0
A35: =Arasınav!A35 -> T33 | B35: =$B$1*Arasınav!AF35 -> 0 | C35: =$C$1*Ödev!AF35 -> 0 | D35: =$D$1*Proje!AF35 -> 0 | E35: =$E$1*Final!AF35 -> 0 | F35: =B35+C35+D35+E35 -> 0 | H35: =IF(F35>$I$1,"G","K") -> K | I35: =IF(H35="G", 1,0) -> 0 | K35: =IF(I35=1,0,1) -> 1 | L35: =K35*$L$1*But!AF35 -> 0 | M35: =IF(K35=1, B35+C35+D35+L35,0) -> 0 | N35: =IF(M35>$I$1,"G","K") -> K | O35: =IF(N35="G", 1,0) -> 0 | P35: =IF(I35+O35=1,1,0) -> 0 | S35: F | T35: =SUMPRODUCT($T20:$AW20, FinalOGR!B3:'FinalOGR'!AE3) -> 66.538462 | U35: =SUMPRODUCT($T20:$AW20, FinalOGR!B4:'FinalOGR'!AE4) -> 66.538462 | V35: =SUMPRODUCT($T20:$AW20, FinalOGR!B5:'FinalOGR'!AE5) -> 66.538462 | W35: =SUMPRODUCT($T20:$AW20, FinalOGR!B6:'FinalOGR'!AE6) -> 66.538462 | X35: =SUMPRODUCT($T20:$AW20, FinalOGR!B7:'FinalOGR'!AE7) -> 66.538462 | Y35: =SUMPRODUCT($T20:$AW20, FinalOGR!B8:'FinalOGR'!AE8) -> 0 | Z35: =SUMPRODUCT($T20:$AW20, FinalOGR!B9:'FinalOGR'!AE9) -> 0 | AA35: =SUMPRODUCT($T20:$AW20, FinalOGR!B10:'FinalOGR'!AE10) -> 0 | AB35: =SUMPRODUCT($T20:$AW20, FinalOGR!B11:'FinalOGR'!AE11) -> 0 | AC35: =SUMPRODUCT($T20:$AW20, FinalOGR!B12:'FinalOGR'!AE12) -> 0
A36: =Arasınav!A36 -> T34 | B36: =$B$1*Arasınav!AF36 -> 0 | C36: =$C$1*Ödev!AF36 -> 0 | D36: =$D$1*Proje!AF36 -> 0 | E36: =$E$1*Final!AF36 -> 0 | F36: =B36+C36+D36+E36 -> 0 | H36: =IF(F36>$I$1,"G","K") -> K | I36: =IF(H36="G", 1,0) -> 0 | K36: =IF(I36=1,0,1) -> 1 | L36: =K36*$L$1*But!AF36 -> 0 | M36: =IF(K36=1, B36+C36+D36+L36,0) -> 0 | N36: =IF(M36>$I$1,"G","K") -> K | O36: =IF(N36="G", 1,0) -> 0 | P36: =IF(I36+O36=1,1,0) -> 0 | S36: B | T36: =SUMPRODUCT($T25:$AW25, ButOGR!B3:'ButOGR'!AE3) -> 98 | U36: =SUMPRODUCT($T25:$AW25, ButOGR!B4:'ButOGR'!AE4) -> 98 | V36: =SUMPRODUCT($T25:$AW25, ButOGR!B5:'ButOGR'!AE5) -> 98 | W36: =SUMPRODUCT($T25:$AW25, ButOGR!B6:'ButOGR'!AE6) -> 98 | X36: =SUMPRODUCT($T25:$AW25, ButOGR!B7:'ButOGR'!AE7) -> 98 | Y36: =SUMPRODUCT($T25:$AW25, ButOGR!B8:'ButOGR'!AE8) -> 0 | Z36: =SUMPRODUCT($T25:$AW25, ButOGR!B9:'ButOGR'!AE9) -> 0 | AA36: =SUMPRODUCT($T25:$AW25, ButOGR!B10:'ButOGR'!AE10) -> 0 | AB36: =SUMPRODUCT($T25:$AW25, ButOGR!B11:'ButOGR'!AE11) -> 0 | AC36: =SUMPRODUCT($T25:$AW25, ButOGR!B12:'ButOGR'!AE12) -> 0
A37: =Arasınav!A37 -> T35 | B37: =$B$1*Arasınav!AF37 -> 0 | C37: =$C$1*Ödev!AF37 -> 0 | D37: =$D$1*Proje!AF37 -> 0 | E37: =$E$1*Final!AF37 -> 0 | F37: =B37+C37+D37+E37 -> 0 | H37: =IF(F37>$I$1,"G","K") -> K | I37: =IF(H37="G", 1,0) -> 0 | K37: =IF(I37=1,0,1) -> 1 | L37: =K37*$L$1*But!AF37 -> 0 | M37: =IF(K37=1, B37+C37+D37+L37,0) -> 0 | N37: =IF(M37>$I$1,"G","K") -> K | O37: =IF(N37="G", 1,0) -> 0 | P37: =IF(I37+O37=1,1,0) -> 0 | S37: F+B | T37: =($J3*T35+$Q6*T36)/$Q3 -> 76.218935 | U37: =($J3*U35+$Q6*U36)/$Q3 -> 76.218935 | V37: =($J3*V35+$Q6*V36)/$Q3 -> 76.218935 | W37: =($J3*W35+$Q6*W36)/$Q3 -> 76.218935 | X37: =($J3*X35+$Q6*X36)/$Q3 -> 76.218935 | Y37: =($J3*Y35+$Q6*Y36)/$Q3 -> 0 | Z37: =($J3*Z35+$Q6*Z36)/$Q3 -> 0 | AA37: =($J3*AA35+$Q6*AA36)/$Q3 -> 0 | ... AC37: =($J3*AC35+$Q6*AC36)/$Q3 -> 0
A38: =Arasınav!A38 -> T36 | B38: =$B$1*Arasınav!AF38 -> 0 | C38: =$C$1*Ödev!AF38 -> 0 | D38: =$D$1*Proje!AF38 -> 0 | E38: =$E$1*Final!AF38 -> 0 | F38: =B38+C38+D38+E38 -> 0 | H38: =IF(F38>$I$1,"G","K") -> K | I38: =IF(H38="G", 1,0) -> 0 | K38: =IF(I38=1,0,1) -> 1 | L38: =K38*$L$1*But!AF38 -> 0 | M38: =IF(K38=1, B38+C38+D38+L38,0) -> 0 | N38: =IF(M38>$I$1,"G","K") -> K | O38: =IF(N38="G", 1,0) -> 0 | P38: =IF(I38+O38=1,1,0) -> 0
A39: =Arasınav!A39 -> T37 | B39: =$B$1*Arasınav!AF39 -> 0 | C39: =$C$1*Ödev!AF39 -> 0 | D39: =$D$1*Proje!AF39 -> 0 | E39: =$E$1*Final!AF39 -> 0 | F39: =B39+C39+D39+E39 -> 0 | H39: =IF(F39>$I$1,"G","K") -> K | I39: =IF(H39="G", 1,0) -> 0 | K39: =IF(I39=1,0,1) -> 1 | L39: =K39*$L$1*But!AF39 -> 0 | M39: =IF(K39=1, B39+C39+D39+L39,0) -> 0 | N39: =IF(M39>$I$1,"G","K") -> K | O39: =IF(N39="G", 1,0) -> 0 | P39: =IF(I39+O39=1,1,0) -> 0 | T39: =(T32+T33+T34+T37)/T30 -> 38.109467 | U39: =(U32+U33+U34+U37)/U30 -> 38.109467 | V39: =(V32+V33+V34+V37)/V30 -> 38.109467 | W39: =(W32+W33+W34+W37)/W30 -> 38.109467 | X39: =(X32+X33+X34+X37)/X30 -> 38.109467 | Y39: =(Y32+Y33+Y34+Y37)/Y30 -> #DIV/0! | Z39: =(Z32+Z33+Z34+Z37)/Z30 -> #DIV/0! | AA39: =(AA32+AA33+AA34+AA37)/AA30 -> #DIV/0! | ... AC39: =(AC32+AC33+AC34+AC37)/AC30 -> #DIV/0!
A40: =Arasınav!A40 -> T38 | B40: =$B$1*Arasınav!AF40 -> 0 | C40: =$C$1*Ödev!AF40 -> 0 | D40: =$D$1*Proje!AF40 -> 0 | E40: =$E$1*Final!AF40 -> 0 | F40: =B40+C40+D40+E40 -> 0 | H40: =IF(F40>$I$1,"G","K") -> K | I40: =IF(H40="G", 1,0) -> 0 | K40: =IF(I40=1,0,1) -> 1 | L40: =K40*$L$1*But!AF40 -> 0 | M40: =IF(K40=1, B40+C40+D40+L40,0) -> 0 | N40: =IF(M40>$I$1,"G","K") -> K | O40: =IF(N40="G", 1,0) -> 0 | P40: =IF(I40+O40=1,1,0) -> 0 | S40: ÖÇ: | T40: =IFERROR(T39,0) -> 38.109467 | U40: =IFERROR(U39,0) -> 38.109467 | V40: =IFERROR(V39,0) -> 38.109467 | W40: =IFERROR(W39,0) -> 38.109467 | X40: =IFERROR(X39,0) -> 38.109467 | Y40: =IFERROR(Y39,0) -> 0 | Z40: =IFERROR(Z39,0) -> 0 | AA40: =IFERROR(AA39,0) -> 0 | ... AC40: =IFERROR(AC39,0) -> 0
A41: =Arasınav!A41 -> T39 | B41: =$B$1*Arasınav!AF41 -> 0 | C41: =$C$1*Ödev!AF41 -> 0 | D41: =$D$1*Proje!AF41 -> 0 | E41: =$E$1*Final!AF41 -> 0 | F41: =B41+C41+D41+E41 -> 0 | H41: =IF(F41>$I$1,"G","K") -> K | I41: =IF(H41="G", 1,0) -> 0 | K41: =IF(I41=1,0,1) -> 1 | L41: =K41*$L$1*But!AF41 -> 0 | M41: =IF(K41=1, B41+C41+D41+L41,0) -> 0 | N41: =IF(M41>$I$1,"G","K") -> K | O41: =IF(N41="G", 1,0) -> 0 | P41: =IF(I41+O41=1,1,0) -> 0
A42: =Arasınav!A42 -> T40 | B42: =$B$1*Arasınav!AF42 -> 0 | C42: =$C$1*Ödev!AF42 -> 0 | D42: =$D$1*Proje!AF42 -> 0 | E42: =$E$1*Final!AF42 -> 0 | F42: =B42+C42+D42+E42 -> 0 | H42: =IF(F42>$I$1,"G","K") -> K | I42: =IF(H42="G", 1,0) -> 0 | K42: =IF(I42=1,0,1) -> 1 | L42: =K42*$L$1*But!AF42 -> 0 | M42: =IF(K42=1, B42+C42+D42+L42,0) -> 0 | N42: =IF(M42>$I$1,"G","K") -> K | O42: =IF(N42="G", 1,0) -> 0 | P42: =IF(I42+O42=1,1,0) -> 0 | T42: PÇ1 | U42: PÇ2 | V42: PÇ3 | W42: PÇ4 | X42: PÇ5 | Y42: PÇ6 | Z42: PÇ7 | AA42: PÇ8 | AB42: PÇ9 | AC42: PÇ10 | AD42: PÇ11 | AE42: PÇ12 | AF42: PÇ13 | AG42: PÇ14 | AH42: PÇ15 | AI42: PÇ16 | AJ42: PÇ17 | AK42: PÇ18 | AL42: PÇ19 | AM42: PÇ20
A43: =Arasınav!A43 -> T41 | B43: =$B$1*Arasınav!AF43 -> 0 | C43: =$C$1*Ödev!AF43 -> 0 | D43: =$D$1*Proje!AF43 -> 0 | E43: =$E$1*Final!AF43 -> 0 | F43: =B43+C43+D43+E43 -> 0 | H43: =IF(F43>$I$1,"G","K") -> K | I43: =IF(H43="G", 1,0) -> 0 | K43: =IF(I43=1,0,1) -> 1 | L43: =K43*$L$1*But!AF43 -> 0 | M43: =IF(K43=1, B43+C43+D43+L43,0) -> 0 | N43: =IF(M43>$I$1,"G","K") -> K | O43: =IF(N43="G", 1,0) -> 0 | P43: =IF(I43+O43=1,1,0) -> 0 | T43: =COUNTIF(PRGCIKTI!B3:K3,1) -> 5 | U43: =COUNTIF(PRGCIKTI!B4:K4,1) -> 1 | V43: =COUNTIF(PRGCIKTI!B5:K5,1) -> 1 | W43: =COUNTIF(PRGCIKTI!B6:K6,1) -> 4 | X43: =COUNTIF(PRGCIKTI!B7:K7,1) -> 0 | Y43: =COUNTIF(PRGCIKTI!B8:K8,1) -> 0 | Z43: =COUNTIF(PRGCIKTI!B9:K9,1) -> 0 | AA43: =COUNTIF(PRGCIKTI!B10:K10,1) -> 3 | AB43: =COUNTIF(PRGCIKTI!B11:K11,1) -> 2 | AC43: =COUNTIF(PRGCIKTI!B12:K12,1) -> 0 | AD43: =COUNTIF(PRGCIKTI!B13:K13,1) -> 5 | AE43: =COUNTIF(PRGCIKTI!B14:K14,1) -> 0 | AF43: =COUNTIF(PRGCIKTI!B15:K15,1) -> 3 | AG43: =COUNTIF(PRGCIKTI!B16:K16,1) -> 0 | AH43: =COUNTIF(PRGCIKTI!B17:K17,1) -> 0 | AI43: =COUNTIF(PRGCIKTI!B18:K18,1) -> 0 | AJ43: =COUNTIF(PRGCIKTI!B19:K19,1) -> 0 | AK43: =COUNTIF(PRGCIKTI!B20:K20,1) -> 0 | AL43: =COUNTIF(PRGCIKTI!B21:K21,1) -> 0 | AM43: =COUNTIF(PRGCIKTI!B22:K22,1) -> 0
A44: =Arasınav!A44 -> T42 | B44: =$B$1*Arasınav!AF44 -> 0 | C44: =$C$1*Ödev!AF44 -> 0 | D44: =$D$1*Proje!AF44 -> 0 | E44: =$E$1*Final!AF44 -> 0 | F44: =B44+C44+D44+E44 -> 0 | H44: =IF(F44>$I$1,"G","K") -> K | I44: =IF(H44="G", 1,0) -> 0 | K44: =IF(I44=1,0,1) -> 1 | L44: =K44*$L$1*But!AF44 -> 0 | M44: =IF(K44=1, B44+C44+D44+L44,0) -> 0 | N44: =IF(M44>$I$1,"G","K") -> K | O44: =IF(N44="G", 1,0) -> 0 | P44: =IF(I44+O44=1,1,0) -> 0
A45: =Arasınav!A45 -> T43 | B45: =$B$1*Arasınav!AF45 -> 0 | C45: =$C$1*Ödev!AF45 -> 0 | D45: =$D$1*Proje!AF45 -> 0 | E45: =$E$1*Final!AF45 -> 0 | F45: =B45+C45+D45+E45 -> 0 | H45: =IF(F45>$I$1,"G","K") -> K | I45: =IF(H45="G", 1,0) -> 0 | K45: =IF(I45=1,0,1) -> 1 | L45: =K45*$L$1*But!AF45 -> 0 | M45: =IF(K45=1, B45+C45+D45+L45,0) -> 0 | N45: =IF(M45>$I$1,"G","K") -> K | O45: =IF(N45="G", 1,0) -> 0 | P45: =IF(I45+O45=1,1,0) -> 0 | T45: =(SUMPRODUCT($T40:$AC40, PRGCIKTI!B3:'PRGCIKTI'!K3))/T43 -> 38.109467 | U45: =(SUMPRODUCT($T40:$AC40, PRGCIKTI!B4:'PRGCIKTI'!K4))/U43 -> 38.109467 | V45: =(SUMPRODUCT($T40:$AC40, PRGCIKTI!B5:'PRGCIKTI'!K5))/V43 -> 38.109467 | W45: =(SUMPRODUCT($T40:$AC40, PRGCIKTI!B6:'PRGCIKTI'!K6))/W43 -> 38.109467 | X45: =(SUMPRODUCT($T40:$AC40, PRGCIKTI!B7:'PRGCIKTI'!K7))/X43 -> #DIV/0! | Y45: =(SUMPRODUCT($T40:$AC40, PRGCIKTI!B8:'PRGCIKTI'!K8))/Y43 -> #DIV/0! | Z45: =(SUMPRODUCT($T40:$AC40, PRGCIKTI!B9:'PRGCIKTI'!K9))/Z43 -> #DIV/0! | AA45: =(SUMPRODUCT($T40:$AC40, PRGCIKTI!B10:'PRGCIKTI'!K10))/AA43 -> 38.109467 | AB45: =(SUMPRODUCT($T40:$AC40, PRGCIKTI!B11:'PRGCIKTI'!K11))/AB43 -> 38.109467 | AC45: =(SUMPRODUCT($T40:$AC40, PRGCIKTI!B12:'PRGCIKTI'!K12))/AC43 -> #DIV/0! | AD45: =(SUMPRODUCT($T40:$AC40, PRGCIKTI!B13:'PRGCIKTI'!K13))/AD43 -> 38.109467 | AE45: =(SUMPRODUCT($T40:$AC40, PRGCIKTI!B14:'PRGCIKTI'!K14))/AE43 -> #DIV/0! | AF45: =(SUMPRODUCT($T40:$AC40, PRGCIKTI!B15:'PRGCIKTI'!K15))/AF43 -> 38.109467 | AG45: =(SUMPRODUCT($T40:$AC40, PRGCIKTI!B16:'PRGCIKTI'!K16))/AG43 -> #DIV/0! | AH45: =(SUMPRODUCT($T40:$AC40, PRGCIKTI!B17:'PRGCIKTI'!K17))/AH43 -> #DIV/0! | AI45: =(SUMPRODUCT($T40:$AC40, PRGCIKTI!B18:'PRGCIKTI'!K18))/AI43 -> #DIV/0! | AJ45: =(SUMPRODUCT($T40:$AC40, PRGCIKTI!B19:'PRGCIKTI'!K19))/AJ43 -> #DIV/0! | AK45: =(SUMPRODUCT($T40:$AC40, PRGCIKTI!B20:'PRGCIKTI'!K20))/AK43 -> #DIV/0! | AL45: =(SUMPRODUCT($T40:$AC40, PRGCIKTI!B21:'PRGCIKTI'!K21))/AL43 -> #DIV/0! | AM45: =(SUMPRODUCT($T40:$AC40, PRGCIKTI!B22:'PRGCIKTI'!K22))/AM43 -> #DIV/0!
A46: =Arasınav!A46 -> T44 | B46: =$B$1*Arasınav!AF46 -> 0 | C46: =$C$1*Ödev!AF46 -> 0 | D46: =$D$1*Proje!AF46 -> 0 | E46: =$E$1*Final!AF46 -> 0 | F46: =B46+C46+D46+E46 -> 0 | H46: =IF(F46>$I$1,"G","K") -> K | I46: =IF(H46="G", 1,0) -> 0 | K46: =IF(I46=1,0,1) -> 1 | L46: =K46*$L$1*But!AF46 -> 0 | M46: =IF(K46=1, B46+C46+D46+L46,0) -> 0 | N46: =IF(M46>$I$1,"G","K") -> K | O46: =IF(N46="G", 1,0) -> 0 | P46: =IF(I46+O46=1,1,0) -> 0 | T46: =IFERROR(T45,0) -> 38.109467 | U46: =IFERROR(U45,0) -> 38.109467 | V46: =IFERROR(V45,0) -> 38.109467 | W46: =IFERROR(W45,0) -> 38.109467 | X46: =IFERROR(X45,0) -> 0 | Y46: =IFERROR(Y45,0) -> 0 | Z46: =IFERROR(Z45,0) -> 0 | AA46: =IFERROR(AA45,0) -> 38.109467 | ... AM46: =IFERROR(AM45,0) -> 0
A47: =Arasınav!A47 -> T45 | B47: =$B$1*Arasınav!AF47 -> 0 | C47: =$C$1*Ödev!AF47 -> 0 | D47: =$D$1*Proje!AF47 -> 0 | E47: =$E$1*Final!AF47 -> 0 | F47: =B47+C47+D47+E47 -> 0 | H47: =IF(F47>$I$1,"G","K") -> K | I47: =IF(H47="G", 1,0) -> 0 | K47: =IF(I47=1,0,1) -> 1 | L47: =K47*$L$1*But!AF47 -> 0 | M47: =IF(K47=1, B47+C47+D47+L47,0) -> 0 | N47: =IF(M47>$I$1,"G","K") -> K | O47: =IF(N47="G", 1,0) -> 0 | P47: =IF(I47+O47=1,1,0) -> 0
A48: =Arasınav!A48 -> T46 | B48: =$B$1*Arasınav!AF48 -> 0 | C48: =$C$1*Ödev!AF48 -> 0 | D48: =$D$1*Proje!AF48 -> 0 | E48: =$E$1*Final!AF48 -> 0 | F48: =B48+C48+D48+E48 -> 0 | H48: =IF(F48>$I$1,"G","K") -> K | I48: =IF(H48="G", 1,0) -> 0 | K48: =IF(I48=1,0,1) -> 1 | L48: =K48*$L$1*But!AF48 -> 0 | M48: =IF(K48=1, B48+C48+D48+L48,0) -> 0 | N48: =IF(M48>$I$1,"G","K") -> K | O48: =IF(N48="G", 1,0) -> 0 | P48: =IF(I48+O48=1,1,0) -> 0
A49: =Arasınav!A49 -> T47 | B49: =$B$1*Arasınav!AF49 -> 0 | C49: =$C$1*Ödev!AF49 -> 0 | D49: =$D$1*Proje!AF49 -> 0 | E49: =$E$1*Final!AF49 -> 0 | F49: =B49+C49+D49+E49 -> 0 | H49: =IF(F49>$I$1,"G","K") -> K | I49: =IF(H49="G", 1,0) -> 0 | K49: =IF(I49=1,0,1) -> 1 | L49: =K49*$L$1*But!AF49 -> 0 | M49: =IF(K49=1, B49+C49+D49+L49,0) -> 0 | N49: =IF(M49>$I$1,"G","K") -> K | O49: =IF(N49="G", 1,0) -> 0 | P49: =IF(I49+O49=1,1,0) -> 0
A50: =Arasınav!A50 -> T48 | B50: =$B$1*Arasınav!AF50 -> 0 | C50: =$C$1*Ödev!AF50 -> 0 | D50: =$D$1*Proje!AF50 -> 0 | E50: =$E$1*Final!AF50 -> 0 | F50: =B50+C50+D50+E50 -> 0 | H50: =IF(F50>$I$1,"G","K") -> K | I50: =IF(H50="G", 1,0) -> 0 | K50: =IF(I50=1,0,1) -> 1 | L50: =K50*$L$1*But!AF50 -> 0 | M50: =IF(K50=1, B50+C50+D50+L50,0) -> 0 | N50: =IF(M50>$I$1,"G","K") -> K | O50: =IF(N50="G", 1,0) -> 0 | P50: =IF(I50+O50=1,1,0) -> 0
A51: =Arasınav!A51 -> T49 | B51: =$B$1*Arasınav!AF51 -> 0 | C51: =$C$1*Ödev!AF51 -> 0 | D51: =$D$1*Proje!AF51 -> 0 | E51: =$E$1*Final!AF51 -> 0 | F51: =B51+C51+D51+E51 -> 0 | H51: =IF(F51>$I$1,"G","K") -> K | I51: =IF(H51="G", 1,0) -> 0 | K51: =IF(I51=1,0,1) -> 1 | L51: =K51*$L$1*But!AF51 -> 0 | M51: =IF(K51=1, B51+C51+D51+L51,0) -> 0 | N51: =IF(M51>$I$1,"G","K") -> K | O51: =IF(N51="G", 1,0) -> 0 | P51: =IF(I51+O51=1,1,0) -> 0 | S51: Asay | T51: =COUNTIF(Arasınav!B1:AE1, ">0") -> 2
A52: =Arasınav!A52 -> T50 | B52: =$B$1*Arasınav!AF52 -> 0 | C52: =$C$1*Ödev!AF52 -> 0 | D52: =$D$1*Proje!AF52 -> 0 | E52: =$E$1*Final!AF52 -> 0 | F52: =B52+C52+D52+E52 -> 0 | H52: =IF(F52>$I$1,"G","K") -> K | I52: =IF(H52="G", 1,0) -> 0 | K52: =IF(I52=1,0,1) -> 1 | L52: =K52*$L$1*But!AF52 -> 0 | M52: =IF(K52=1, B52+C52+D52+L52,0) -> 0 | N52: =IF(M52>$I$1,"G","K") -> K | O52: =IF(N52="G", 1,0) -> 0 | P52: =IF(I52+O52=1,1,0) -> 0 | S52: Ösay | T52: =COUNTIF(Ödev!B1:AE1, ">0") -> 0
A53: =Arasınav!A53 -> T51 | B53: =$B$1*Arasınav!AF53 -> 0 | C53: =$C$1*Ödev!AF53 -> 0 | D53: =$D$1*Proje!AF53 -> 0 | E53: =$E$1*Final!AF53 -> 0 | F53: =B53+C53+D53+E53 -> 0 | H53: =IF(F53>$I$1,"G","K") -> K | I53: =IF(H53="G", 1,0) -> 0 | K53: =IF(I53=1,0,1) -> 1 | L53: =K53*$L$1*But!AF53 -> 0 | M53: =IF(K53=1, B53+C53+D53+L53,0) -> 0 | N53: =IF(M53>$I$1,"G","K") -> K | O53: =IF(N53="G", 1,0) -> 0 | P53: =IF(I53+O53=1,1,0) -> 0 | S53: Psay | T53: =COUNTIF(Proje!B1:AE1, ">0") -> 0
A54: =Arasınav!A54 -> T52 | B54: =$B$1*Arasınav!AF54 -> 0 | C54: =$C$1*Ödev!AF54 -> 0 | D54: =$D$1*Proje!AF54 -> 0 | E54: =$E$1*Final!AF54 -> 0 | F54: =B54+C54+D54+E54 -> 0 | H54: =IF(F54>$I$1,"G","K") -> K | I54: =IF(H54="G", 1,0) -> 0 | K54: =IF(I54=1,0,1) -> 1 | L54: =K54*$L$1*But!AF54 -> 0 | M54: =IF(K54=1, B54+C54+D54+L54,0) -> 0 | N54: =IF(M54>$I$1,"G","K") -> K | O54: =IF(N54="G", 1,0) -> 0 | P54: =IF(I54+O54=1,1,0) -> 0 | S54: Fsay | T54: =COUNTIF(Final!B1:AE1, ">0") -> 1
A55: =Arasınav!A55 -> T53 | B55: =$B$1*Arasınav!AF55 -> 0 | C55: =$C$1*Ödev!AF55 -> 0 | D55: =$D$1*Proje!AF55 -> 0 | E55: =$E$1*Final!AF55 -> 0 | F55: =B55+C55+D55+E55 -> 0 | H55: =IF(F55>$I$1,"G","K") -> K | I55: =IF(H55="G", 1,0) -> 0 | K55: =IF(I55=1,0,1) -> 1 | L55: =K55*$L$1*But!AF55 -> 0 | M55: =IF(K55=1, B55+C55+D55+L55,0) -> 0 | N55: =IF(M55>$I$1,"G","K") -> K | O55: =IF(N55="G", 1,0) -> 0 | P55: =IF(I55+O55=1,1,0) -> 0 | S55: Bsay | T55: =COUNTIF(But!B1:AE1, ">0") -> 1
A56: =Arasınav!A56 -> T54 | B56: =$B$1*Arasınav!AF56 -> 0 | C56: =$C$1*Ödev!AF56 -> 0 | D56: =$D$1*Proje!AF56 -> 0 | E56: =$E$1*Final!AF56 -> 0 | F56: =B56+C56+D56+E56 -> 0 | H56: =IF(F56>$I$1,"G","K") -> K | I56: =IF(H56="G", 1,0) -> 0 | K56: =IF(I56=1,0,1) -> 1 | L56: =K56*$L$1*But!AF56 -> 0 | M56: =IF(K56=1, B56+C56+D56+L56,0) -> 0 | N56: =IF(M56>$I$1,"G","K") -> K | O56: =IF(N56="G", 1,0) -> 0 | P56: =IF(I56+O56=1,1,0) -> 0 | S56: Öçsay | T56: =Gerekli!C19 -> 0
A57: =Arasınav!A57 -> T55 | B57: =$B$1*Arasınav!AF57 -> 0 | C57: =$C$1*Ödev!AF57 -> 0 | D57: =$D$1*Proje!AF57 -> 0 | E57: =$E$1*Final!AF57 -> 0 | F57: =B57+C57+D57+E57 -> 0 | H57: =IF(F57>$I$1,"G","K") -> K | I57: =IF(H57="G", 1,0) -> 0 | K57: =IF(I57=1,0,1) -> 1 | L57: =K57*$L$1*But!AF57 -> 0 | M57: =IF(K57=1, B57+C57+D57+L57,0) -> 0 | N57: =IF(M57>$I$1,"G","K") -> K | O57: =IF(N57="G", 1,0) -> 0 | P57: =IF(I57+O57=1,1,0) -> 0 | S57: Pçsay | T57: =Gerekli!C20 -> 0
A58: =Arasınav!A58 -> T56 | B58: =$B$1*Arasınav!AF58 -> 0 | C58: =$C$1*Ödev!AF58 -> 0 | D58: =$D$1*Proje!AF58 -> 0 | E58: =$E$1*Final!AF58 -> 0 | F58: =B58+C58+D58+E58 -> 0 | H58: =IF(F58>$I$1,"G","K") -> K | I58: =IF(H58="G", 1,0) -> 0 | K58: =IF(I58=1,0,1) -> 1 | L58: =K58*$L$1*But!AF58 -> 0 | M58: =IF(K58=1, B58+C58+D58+L58,0) -> 0 | N58: =IF(M58>$I$1,"G","K") -> K | O58: =IF(N58="G", 1,0) -> 0 | P58: =IF(I58+O58=1,1,0) -> 0
A59: =Arasınav!A59 -> T57 | B59: =$B$1*Arasınav!AF59 -> 0 | C59: =$C$1*Ödev!AF59 -> 0 | D59: =$D$1*Proje!AF59 -> 0 | E59: =$E$1*Final!AF59 -> 0 | F59: =B59+C59+D59+E59 -> 0 | H59: =IF(F59>$I$1,"G","K") -> K | I59: =IF(H59="G", 1,0) -> 0 | K59: =IF(I59=1,0,1) -> 1 | L59: =K59*$L$1*But!AF59 -> 0 | M59: =IF(K59=1, B59+C59+D59+L59,0) -> 0 | N59: =IF(M59>$I$1,"G","K") -> K | O59: =IF(N59="G", 1,0) -> 0 | P59: =IF(I59+O59=1,1,0) -> 0
A60: =Arasınav!A60 -> T58 | B60: =$B$1*Arasınav!AF60 -> 0 | C60: =$C$1*Ödev!AF60 -> 0 | D60: =$D$1*Proje!AF60 -> 0 | E60: =$E$1*Final!AF60 -> 0 | F60: =B60+C60+D60+E60 -> 0 | H60: =IF(F60>$I$1,"G","K") -> K | I60: =IF(H60="G", 1,0) -> 0 | K60: =IF(I60=1,0,1) -> 1 | L60: =K60*$L$1*But!AF60 -> 0 | M60: =IF(K60=1, B60+C60+D60+L60,0) -> 0 | N60: =IF(M60>$I$1,"G","K") -> K | O60: =IF(N60="G", 1,0) -> 0 | P60: =IF(I60+O60=1,1,0) -> 0
A61: =Arasınav!A61 -> T59 | B61: =$B$1*Arasınav!AF61 -> 0 | C61: =$C$1*Ödev!AF61 -> 0 | D61: =$D$1*Proje!AF61 -> 0 | E61: =$E$1*Final!AF61 -> 0 | F61: =B61+C61+D61+E61 -> 0 | H61: =IF(F61>$I$1,"G","K") -> K | I61: =IF(H61="G", 1,0) -> 0 | K61: =IF(I61=1,0,1) -> 1 | L61: =K61*$L$1*But!AF61 -> 0 | M61: =IF(K61=1, B61+C61+D61+L61,0) -> 0 | N61: =IF(M61>$I$1,"G","K") -> K | O61: =IF(N61="G", 1,0) -> 0 | P61: =IF(I61+O61=1,1,0) -> 0
A62: =Arasınav!A62 -> T60 | B62: =$B$1*Arasınav!AF62 -> 0 | C62: =$C$1*Ödev!AF62 -> 0 | D62: =$D$1*Proje!AF62 -> 0 | E62: =$E$1*Final!AF62 -> 0 | F62: =B62+C62+D62+E62 -> 0 | H62: =IF(F62>$I$1,"G","K") -> K | I62: =IF(H62="G", 1,0) -> 0 | K62: =IF(I62=1,0,1) -> 1 | L62: =K62*$L$1*But!AF62 -> 0 | M62: =IF(K62=1, B62+C62+D62+L62,0) -> 0 | N62: =IF(M62>$I$1,"G","K") -> K | O62: =IF(N62="G", 1,0) -> 0 | P62: =IF(I62+O62=1,1,0) -> 0
A63: =Arasınav!A63 -> T61 | B63: =$B$1*Arasınav!AF63 -> 0 | C63: =$C$1*Ödev!AF63 -> 0 | D63: =$D$1*Proje!AF63 -> 0 | E63: =$E$1*Final!AF63 -> 0 | F63: =B63+C63+D63+E63 -> 0 | H63: =IF(F63>$I$1,"G","K") -> K | I63: =IF(H63="G", 1,0) -> 0 | K63: =IF(I63=1,0,1) -> 1 | L63: =K63*$L$1*But!AF63 -> 0 | M63: =IF(K63=1, B63+C63+D63+L63,0) -> 0 | N63: =IF(M63>$I$1,"G","K") -> K | O63: =IF(N63="G", 1,0) -> 0 | P63: =IF(I63+O63=1,1,0) -> 0
A64: =Arasınav!A64 -> T62 | B64: =$B$1*Arasınav!AF64 -> 0 | C64: =$C$1*Ödev!AF64 -> 0 | D64: =$D$1*Proje!AF64 -> 0 | E64: =$E$1*Final!AF64 -> 0 | F64: =B64+C64+D64+E64 -> 0 | H64: =IF(F64>$I$1,"G","K") -> K | I64: =IF(H64="G", 1,0) -> 0 | K64: =IF(I64=1,0,1) -> 1 | L64: =K64*$L$1*But!AF64 -> 0 | M64: =IF(K64=1, B64+C64+D64+L64,0) -> 0 | N64: =IF(M64>$I$1,"G","K") -> K | O64: =IF(N64="G", 1,0) -> 0 | P64: =IF(I64+O64=1,1,0) -> 0
A65: =Arasınav!A65 -> T63 | B65: =$B$1*Arasınav!AF65 -> 0 | C65: =$C$1*Ödev!AF65 -> 0 | D65: =$D$1*Proje!AF65 -> 0 | E65: =$E$1*Final!AF65 -> 0 | F65: =B65+C65+D65+E65 -> 0 | H65: =IF(F65>$I$1,"G","K") -> K | I65: =IF(H65="G", 1,0) -> 0 | K65: =IF(I65=1,0,1) -> 1 | L65: =K65*$L$1*But!AF65 -> 0 | M65: =IF(K65=1, B65+C65+D65+L65,0) -> 0 | N65: =IF(M65>$I$1,"G","K") -> K | O65: =IF(N65="G", 1,0) -> 0 | P65: =IF(I65+O65=1,1,0) -> 0
A66: =Arasınav!A66 -> T64 | B66: =$B$1*Arasınav!AF66 -> 0 | C66: =$C$1*Ödev!AF66 -> 0 | D66: =$D$1*Proje!AF66 -> 0 | E66: =$E$1*Final!AF66 -> 0 | F66: =B66+C66+D66+E66 -> 0 | H66: =IF(F66>$I$1,"G","K") -> K | I66: =IF(H66="G", 1,0) -> 0 | K66: =IF(I66=1,0,1) -> 1 | L66: =K66*$L$1*But!AF66 -> 0 | M66: =IF(K66=1, B66+C66+D66+L66,0) -> 0 | N66: =IF(M66>$I$1,"G","K") -> K | O66: =IF(N66="G", 1,0) -> 0 | P66: =IF(I66+O66=1,1,0) -> 0
A67: =Arasınav!A67 -> T65 | B67: =$B$1*Arasınav!AF67 -> 0 | C67: =$C$1*Ödev!AF67 -> 0 | D67: =$D$1*Proje!AF67 -> 0 | E67: =$E$1*Final!AF67 -> 0 | F67: =B67+C67+D67+E67 -> 0 | H67: =IF(F67>$I$1,"G","K") -> K | I67: =IF(H67="G", 1,0) -> 0 | K67: =IF(I67=1,0,1) -> 1 | L67: =K67*$L$1*But!AF67 -> 0 | M67: =IF(K67=1, B67+C67+D67+L67,0) -> 0 | N67: =IF(M67>$I$1,"G","K") -> K | O67: =IF(N67="G", 1,0) -> 0 | P67: =IF(I67+O67=1,1,0) -> 0
A68: =Arasınav!A68 -> T66 | B68: =$B$1*Arasınav!AF68 -> 0 | C68: =$C$1*Ödev!AF68 -> 0 | D68: =$D$1*Proje!AF68 -> 0 | E68: =$E$1*Final!AF68 -> 0 | F68: =B68+C68+D68+E68 -> 0 | H68: =IF(F68>$I$1,"G","K") -> K | I68: =IF(H68="G", 1,0) -> 0 | K68: =IF(I68=1,0,1) -> 1 | L68: =K68*$L$1*But!AF68 -> 0 | M68: =IF(K68=1, B68+C68+D68+L68,0) -> 0 | N68: =IF(M68>$I$1,"G","K") -> K | O68: =IF(N68="G", 1,0) -> 0 | P68: =IF(I68+O68=1,1,0) -> 0
A69: =Arasınav!A69 -> T67 | B69: =$B$1*Arasınav!AF69 -> 0 | C69: =$C$1*Ödev!AF69 -> 0 | D69: =$D$1*Proje!AF69 -> 0 | E69: =$E$1*Final!AF69 -> 0 | F69: =B69+C69+D69+E69 -> 0 | H69: =IF(F69>$I$1,"G","K") -> K | I69: =IF(H69="G", 1,0) -> 0 | K69: =IF(I69=1,0,1) -> 1 | L69: =K69*$L$1*But!AF69 -> 0 | M69: =IF(K69=1, B69+C69+D69+L69,0) -> 0 | N69: =IF(M69>$I$1,"G","K") -> K | O69: =IF(N69="G", 1,0) -> 0 | P69: =IF(I69+O69=1,1,0) -> 0
... A202: =Arasınav!A202 -> T200 | B202: =$B$1*Arasınav!AF202 -> 0 | C202: =$C$1*Ödev!AF202 -> 0 | D202: =$D$1*Proje!AF202 -> 0 | E202: =$E$1*Final!AF202 -> 0 | F202: =B202+C202+D202+E202 -> 0 | H202: =IF(F202>$I$1,"G","K") -> K | I202: =IF(H202="G", 1,0) -> 0 | K202: =IF(I202=1,0,1) -> 1 | L202: =K202*$L$1*But!AF202 -> 0 | M202: =IF(K202=1, B202+C202+D202+L202,0) -> 0 | N202: =IF(M202>$I$1,"G","K") -> K | O202: =IF(N202="G", 1,0) -> 0 | P202: =IF(I202+O202=1,1,0) -> 0

Sheet SONUÇLAR
B2: Program Çıktıları | E2: Öğrenim Çıktıları | H2: Arasınav Soruları | M2: Ödev Soruları | R2: Proje Soruları | W2: Final Soruları
B3: PÇsay | C3: =BAŞARI!T57 -> 0 | E3: ÖÇsay | F3: =BAŞARI!T56 -> 0 | I3: SoruSayısı | J3: =BAŞARI!T51 -> 2 | N3: SoruSayısı | O3: =BAŞARI!T52 -> 0 | S3: SoruSayısı | T3: =BAŞARI!T53 -> 0 | X3: SoruSayısı | Y3: =BAŞARI!T54 -> 1
C4: Eriş. Düz. (%) | F4: Eriş. Düz. (%) | I4: Soru Puanı | J4: Ort.Puan | K4: Başarı (%) | N4: Soru Puanı | O4: Ort.Puan | P4: Başarı (%) | S4: Soru Puanı | T4: Ort.Puan | U4: Başarı (%) | X4: Soru Puanı | Y4: Ort.Puan | Z4: Başarı (%)
B5: PÇ1 | C5: =BAŞARI!T46 -> 38.109467 | E5: ÖÇ1 | F5: =BAŞARI!T40 -> 38.109467 | H5: A1 | I5: =Arasınav!B1 -> 20 | J5: =BAŞARI!T3 -> 0 | K5: =BAŞARI!T5 -> 0 | M5: Ö1 | N5: =Ödev!B1 -> 0 | O5: =BAŞARI!T8 -> 0 | P5: =BAŞARI!T10 -> 0 | R5: P1 | S5: =Proje!B1 -> 0 | T5: =BAŞARI!T13 -> 0 | U5: =BAŞARI!T15 -> 0 | W5: F1 | X5: =Final!B1 -> 100 | Y5: =BAŞARI!T18 -> 66.538462 | Z5: =BAŞARI!T20 -> 66.538462
B6: PÇ2 | C6: =BAŞARI!U46 -> 38.109467 | E6: ÖÇ2 | F6: =BAŞARI!U40 -> 38.109467 | H6: A2 | I6: =Arasınav!C1 -> 80 | J6: =BAŞARI!U3 -> 0 | K6: =BAŞARI!U5 -> 0 | M6: Ö2 | N6: =Ödev!C1 -> 0 | O6: =BAŞARI!U8 -> 0 | P6: =BAŞARI!U10 -> 0 | R6: P2 | S6: =Proje!C1 -> 0 | T6: =BAŞARI!U13 -> 0 | U6: =BAŞARI!U15 -> 0 | W6: F2 | X6: =Final!C1 -> 0 | Y6: =BAŞARI!U18 -> 0 | Z6: =BAŞARI!U20 -> 0
B7: PÇ3 | C7: =BAŞARI!V46 -> 38.109467 | E7: ÖÇ3 | F7: =BAŞARI!V40 -> 38.109467 | H7: A3 | I7: =Arasınav!D1 -> 0 | J7: =BAŞARI!V3 -> 0 | K7: =BAŞARI!V5 -> 0 | M7: Ö3 | N7: =Ödev!D1 -> 0 | O7: =BAŞARI!V8 -> 0 | P7: =BAŞARI!V10 -> 0 | R7: P3 | S7: =Proje!D1 -> 0 | T7: =BAŞARI!V13 -> 0 | U7: =BAŞARI!V15 -> 0 | W7: F3 | X7: =Final!D1 -> 0 | Y7: =BAŞARI!V18 -> 0 | Z7: =BAŞARI!V20 -> 0
B8: PÇ4 | C8: =BAŞARI!W46 -> 38.109467 | E8: ÖÇ4 | F8: =BAŞARI!W40 -> 38.109467 | H8: A4 | I8: =Arasınav!E1 -> 0 | J8: =BAŞARI!W3 -> 0 | K8: =BAŞARI!W5 -> 0 | M8: Ö4 | N8: =Ödev!E1 -> 0 | O8: =BAŞARI!W8 -> 0 | P8: =BAŞARI!W10 -> 0 | R8: P4 | S8: =Proje!E1 -> 0 | T8: =BAŞARI!W13 -> 0 | U8: =BAŞARI!W15 -> 0 | W8: F4 | X8: =Final!E1 -> 0 | Y8: =BAŞARI!W18 -> 0 | Z8: =BAŞARI!W20 -> 0
B9: PÇ5 | C9: =BAŞARI!X46 -> 0 | E9: ÖÇ5 | F9: =BAŞARI!X40 -> 38.109467 | H9: A5 | I9: =Arasınav!F1 -> 0 | J9: =BAŞARI!X3 -> 0 | K9: =BAŞARI!X5 -> 0 | M9: Ö5 | N9: =Ödev!F1 -> 0 | O9: =BAŞARI!X8 -> 0 | P9: =BAŞARI!X10 -> 0 | R9: P5 | S9: =Proje!F1 -> 0 | T9: =BAŞARI!X13 -> 0 | U9: =BAŞARI!X15 -> 0 | W9: F5 | X9: =Final!F1 -> 0 | Y9: =BAŞARI!X18 -> 0 | Z9: =BAŞARI!X20 -> 0
B10: PÇ6 | C10: =BAŞARI!Y46 -> 0 | E10: ÖÇ6 | F10: =BAŞARI!Y40 -> 0 | H10: A6 | I10: =Arasınav!G1 -> 0 | J10: =BAŞARI!Y3 -> 0 | K10: =BAŞARI!Y5 -> 0 | M10: Ö6 | N10: =Ödev!G1 -> 0 | O10: =BAŞARI!Y8 -> 0 | P10: =BAŞARI!Y10 -> 0 | R10: P6 | S10: =Proje!G1 -> 0 | T10: =BAŞARI!Y13 -> 0 | U10: =BAŞARI!Y15 -> 0 | W10: F6 | X10: =Final!G1 -> 0 | Y10: =BAŞARI!Y18 -> 0 | Z10: =BAŞARI!Y20 -> 0
B11: PÇ7 | C11: =BAŞARI!Z46 -> 0 | E11: ÖÇ7 | F11: =BAŞARI!Z40 -> 0 | H11: A7 | I11: =Arasınav!H1 -> 0 | J11: =BAŞARI!Z3 -> 0 | K11: =BAŞARI!Z5 -> 0 | M11: Ö7 | N11: =Ödev!H1 -> 0 | O11: =BAŞARI!Z8 -> 0 | P11: =BAŞARI!Z10 -> 0 | R11: P7 | S11: =Proje!H1 -> 0 | T11: =BAŞARI!Z13 -> 0 | U11: =BAŞARI!Z15 -> 0 | W11: F7 | X11: =Final!H1 -> 0 | Y11: =BAŞARI!Z18 -> 0 | Z11: =BAŞARI!Z20 -> 0
B12: PÇ8 | C12: =BAŞARI!AA46 -> 38.109467 | E12: ÖÇ8 | F12: =BAŞARI!AA40 -> 0 | H12: A8 | I12: =Arasınav!I1 -> 0 | J12: =BAŞARI!AA3 -> 0 | K12: =BAŞARI!AA5 -> 0 | M12: Ö8 | N12: =Ödev!I1 -> 0 | O12: =BAŞARI!AA8 -> 0 | P12: =BAŞARI!AA10 -> 0 | R12: P8 | S12: =Proje!I1 -> 0 | T12: =BAŞARI!AA13 -> 0 | U12: =BAŞARI!AA15 -> 0 | W12: F8 | X12: =Final!I1 -> 0 | Y12: =BAŞARI!AA18 -> 0 | Z12: =BAŞARI!AA20 -> 0
B13: PÇ9 | C13: =BAŞARI!AB46 -> 38.109467 | E13: ÖÇ9 | F13: =BAŞARI!AB40 -> 0 | H13: A9 | I13: =Arasınav!J1 -> 0 | J13: =BAŞARI!AB3 -> 0 | K13: =BAŞARI!AB5 -> 0 | M13: Ö9 | N13: =Ödev!J1 -> 0 | O13: =BAŞARI!AB8 -> 0 | P13: =BAŞARI!AB10 -> 0 | R13: P9 | S13: =Proje!J1 -> 0 | T13: =BAŞARI!AB13 -> 0 | U13: =BAŞARI!AB15 -> 0 | W13: F9 | X13: =Final!J1 -> 0 | Y13: =BAŞARI!AB18 -> 0 | Z13: =BAŞARI!AB20 -> 0
B14: PÇ10 | C14: =BAŞARI!AC46 -> 0 | E14: ÖÇ10 | F14: =BAŞARI!AC40 -> 0 | H14: A10 | I14: =Arasınav!K1 -> 0 | J14: =BAŞARI!AC3 -> 0 | K14: =BAŞARI!AC5 -> 0 | M14: Ö10 | N14: =Ödev!K1 -> 0 | O14: =BAŞARI!AC8 -> 0 | P14: =BAŞARI!AC10 -> 0 | R14: P10 | S14: =Proje!K1 -> 0 | T14: =BAŞARI!AC13 -> 0 | U14: =BAŞARI!AC15 -> 0 | W14: F10 | X14: =Final!K1 -> 0 | Y14: =BAŞARI!AC18 -> 0 | Z14: =BAŞARI!AC20 -> 0
B15: PÇ11 | C15: =BAŞARI!AD46 -> 38.109467 | H15: A11 | I15: =Arasınav!L1 -> 0 | J15: =BAŞARI!AD3 -> 0 | K15: =BAŞARI!AD5 -> 0 | M15: Ö11 | N15: =Ödev!L1 -> 0 | O15: =BAŞARI!AD8 -> 0 | P15: =BAŞARI!AD10 -> 0 | R15: P11 | S15: =Proje!L1 -> 0 | T15: =BAŞARI!AD13 -> 0 | U15: =BAŞARI!AD15 -> 0 | W15: F11 | X15: =Final!L1 -> 0 | Y15: =BAŞARI!AD18 -> 0 | Z15: =BAŞARI!AD20 -> 0
B16: PÇ12 | C16: =BAŞARI!AE46 -> 0 | H16: A12 | I16: =Arasınav!M1 -> 0 | J16: =BAŞARI!AE3 -> 0 | K16: =BAŞARI!AE5 -> 0 | M16: Ö12 | N16: =Ödev!M1 -> 0 | O16: =BAŞARI!AE8 -> 0 | P16: =BAŞARI!AE10 -> 0 | R16: P12 | S16: =Proje!M1 -> 0 | T16: =BAŞARI!AE13 -> 0 | U16: =BAŞARI!AE15 -> 0 | W16: F12 | X16: =Final!M1 -> 0 | Y16: =BAŞARI!AE18 -> 0 | Z16: =BAŞARI!AE20 -> 0
B17: PÇ13 | C17: =BAŞARI!AF46 -> 38.109467 | H17: A13 | I17: =Arasınav!N1 -> 0 | J17: =BAŞARI!AF3 -> 0 | K17: =BAŞARI!AF5 -> 0 | M17: Ö13 | N17: =Ödev!N1 -> 0 | O17: =BAŞARI!AF8 -> 0 | P17: =BAŞARI!AF10 -> 0 | R17: P13 | S17: =Proje!N1 -> 0 | T17: =BAŞARI!AF13 -> 0 | U17: =BAŞARI!AF15 -> 0 | W17: F13 | X17: =Final!N1 -> 0 | Y17: =BAŞARI!AF18 -> 0 | Z17: =BAŞARI!AF20 -> 0
B18: PÇ14 | C18: =BAŞARI!AG46 -> 0 | H18: A14 | I18: =Arasınav!O1 -> 0 | J18: =BAŞARI!AG3 -> 0 | K18: =BAŞARI!AG5 -> 0 | M18: Ö14 | N18: =Ödev!O1 -> 0 | O18: =BAŞARI!AG8 -> 0 | P18: =BAŞARI!AG10 -> 0 | R18: P14 | S18: =Proje!O1 -> 0 | T18: =BAŞARI!AG13 -> 0 | U18: =BAŞARI!AG15 -> 0 | W18: F14 | X18: =Final!O1 -> 0 | Y18: =BAŞARI!AG18 -> 0 | Z18: =BAŞARI!AG20 -> 0
B19: PÇ15 | C19: =BAŞARI!AH46 -> 0 | H19: A15 | I19: =Arasınav!P1 -> 0 | J19: =BAŞARI!AH3 -> 0 | K19: =BAŞARI!AH5 -> 0 | M19: Ö15 | N19: =Ödev!P1 -> 0 | O19: =BAŞARI!AH8 -> 0 | P19: =BAŞARI!AH10 -> 0 | R19: P15 | S19: =Proje!P1 -> 0 | T19: =BAŞARI!AH13 -> 0 | U19: =BAŞARI!AH15 -> 0 | W19: F15 | X19: =Final!P1 -> 0 | Y19: =BAŞARI!AH18 -> 0 | Z19: =BAŞARI!AH20 -> 0
B20: PÇ16 | C20: =BAŞARI!AI46 -> 0 | H20: A16 | I20: =Arasınav!Q1 -> 0 | J20: =BAŞARI!AI3 -> 0 | K20: =BAŞARI!AI5 -> 0 | M20: Ö16 | N20: =Ödev!Q1 -> 0 | O20: =BAŞARI!AI8 -> 0 | P20: =BAŞARI!AI10 -> 0 | R20: P16 | S20: =Proje!Q1 -> 0 | T20: =BAŞARI!AI13 -> 0 | U20: =BAŞARI!AI15 -> 0 | W20: F16 | X20: =Final!Q1 -> 0 | Y20: =BAŞARI!AI18 -> 0 | Z20: =BAŞARI!AI20 -> 0
B21: PÇ17 | C21: =BAŞARI!AJ46 -> 0 | H21: A17 | I21: =Arasınav!R1 -> 0 | J21: =BAŞARI!AJ3 -> 0 | K21: =BAŞARI!AJ5 -> 0 | M21: Ö17 | N21: =Ödev!R1 -> 0 | O21: =BAŞARI!AJ8 -> 0 | P21: =BAŞARI!AJ10 -> 0 | R21: P17 | S21: =Proje!R1 -> 0 | T21: =BAŞARI!AJ13 -> 0 | U21: =BAŞARI!AJ15 -> 0 | W21: F17 | X21: =Final!R1 -> 0 | Y21: =BAŞARI!AJ18 -> 0 | Z21: =BAŞARI!AJ20 -> 0
B22: PÇ18 | C22: =BAŞARI!AK46 -> 0 | H22: A18 | I22: =Arasınav!S1 -> 0 | J22: =BAŞARI!AK3 -> 0 | K22: =BAŞARI!AK5 -> 0 | M22: Ö18 | N22: =Ödev!S1 -> 0 | O22: =BAŞARI!AK8 -> 0 | P22: =BAŞARI!AK10 -> 0 | R22: P18 | S22: =Proje!S1 -> 0 | T22: =BAŞARI!AK13 -> 0 | U22: =BAŞARI!AK15 -> 0 | W22: F18 | X22: =Final!S1 -> 0 | Y22: =BAŞARI!AK18 -> 0 | Z22: =BAŞARI!AK20 -> 0
B23: PÇ19 | C23: =BAŞARI!AL46 -> 0 | H23: A19 | I23: =Arasınav!T1 -> 0 | J23: =BAŞARI!AL3 -> 0 | K23: =BAŞARI!AL5 -> 0 | M23: Ö19 | N23: =Ödev!T1 -> 0 | O23: =BAŞARI!AL8 -> 0 | P23: =BAŞARI!AL10 -> 0 | R23: P19 | S23: =Proje!T1 -> 0 | T23: =BAŞARI!AL13 -> 0 | U23: =BAŞARI!AL15 -> 0 | W23: F19 | X23: =Final!T1 -> 0 | Y23: =BAŞARI!AL18 -> 0 | Z23: =BAŞARI!AL20 -> 0
B24: PÇ20 | C24: =BAŞARI!AM46 -> 0 | H24: A20 | I24: =Arasınav!U1 -> 0 | J24: =BAŞARI!AM3 -> 0 | K24: =BAŞARI!AM5 -> 0 | M24: Ö20 | N24: =Ödev!U1 -> 0 | O24: =BAŞARI!AM8 -> 0 | P24: =BAŞARI!AM10 -> 0 | R24: P20 | S24: =Proje!U1 -> 0 | T24: =BAŞARI!AM13 -> 0 | U24: =BAŞARI!AM15 -> 0 | W24: F20 | X24: =Final!U1 -> 0 | Y24: =BAŞARI!AM18 -> 0 | Z24: =BAŞARI!AM20 -> 0
H25: A21 | I25: =Arasınav!V1 -> 0 | J25: =BAŞARI!AN3 -> 0 | K25: =BAŞARI!AN5 -> 0 | M25: Ö21 | N25: =Ödev!V1 -> 0 | O25: =BAŞARI!AN8 -> 0 | P25: =BAŞARI!AN10 -> 0 | R25: P21 | S25: =Proje!V1 -> 0 | T25: =BAŞARI!AN13 -> 0 | U25: =BAŞARI!AN15 -> 0 | W25: F21 | X25: =Final!V1 -> 0 | Y25: =BAŞARI!AN18 -> 0 | Z25: =BAŞARI!AN20 -> 0
H26: A22 | I26: =Arasınav!W1 -> 0 | J26: =BAŞARI!AO3 -> 0 | K26: =BAŞARI!AO5 -> 0 | M26: Ö22 | N26: =Ödev!W1 -> 0 | O26: =BAŞARI!AO8 -> 0 | P26: =BAŞARI!AO10 -> 0 | R26: P22 | S26: =Proje!W1 -> 0 | T26: =BAŞARI!AO13 -> 0 | U26: =BAŞARI!AO15 -> 0 | W26: F22 | X26: =Final!W1 -> 0 | Y26: =BAŞARI!AO18 -> 0 | Z26: =BAŞARI!AO20 -> 0
H27: A23 | I27: =Arasınav!X1 -> 0 | J27: =BAŞARI!AP3 -> 0 | K27: =BAŞARI!AP5 -> 0 | M27: Ö23 | N27: =Ödev!X1 -> 0 | O27: =BAŞARI!AP8 -> 0 | P27: =BAŞARI!AP10 -> 0 | R27: P23 | S27: =Proje!X1 -> 0 | T27: =BAŞARI!AP13 -> 0 | U27: =BAŞARI!AP15 -> 0 | W27: F23 | X27: =Final!X1 -> 0 | Y27: =BAŞARI!AP18 -> 0 | Z27: =BAŞARI!AP20 -> 0
H28: A24 | I28: =Arasınav!Y1 -> 0 | J28: =BAŞARI!AQ3 -> 0 | K28: =BAŞARI!AQ5 -> 0 | M28: Ö24 | N28: =Ödev!Y1 -> 0 | O28: =BAŞARI!AQ8 -> 0 | P28: =BAŞARI!AQ10 -> 0 | R28: P24 | S28: =Proje!Y1 -> 0 | T28: =BAŞARI!AQ13 -> 0 | U28: =BAŞARI!AQ15 -> 0 | W28: F24 | X28: =Final!Y1 -> 0 | Y28: =BAŞARI!AQ18 -> 0 | Z28: =BAŞARI!AQ20 -> 0
H29: A25 | I29: =Arasınav!Z1 -> 0 | J29: =BAŞARI!AR3 -> 0 | K29: =BAŞARI!AR5 -> 0 | M29: Ö25 | N29: =Ödev!Z1 -> 0 | O29: =BAŞARI!AR8 -> 0 | P29: =BAŞARI!AR10 -> 0 | R29: P25 | S29: =Proje!Z1 -> 0 | T29: =BAŞARI!AR13 -> 0 | U29: =BAŞARI!AR15 -> 0 | W29: F25 | X29: =Final!Z1 -> 0 | Y29: =BAŞARI!AR18 -> 0 | Z29: =BAŞARI!AR20 -> 0
H30: A26 | I30: =Arasınav!AA1 -> 0 | J30: =BAŞARI!AS3 -> 0 | K30: =BAŞARI!AS5 -> 0 | M30: Ö26 | N30: =Ödev!AA1 -> 0 | O30: =BAŞARI!AS8 -> 0 | P30: =BAŞARI!AS10 -> 0 | R30: P26 | S30: =Proje!AA1 -> 0 | T30: =BAŞARI!AS13 -> 0 | U30: =BAŞARI!AS15 -> 0 | W30: F26 | X30: =Final!AA1 -> 0 | Y30: =BAŞARI!AS18 -> 0 | Z30: =BAŞARI!AS20 -> 0
H31: A27 | I31: =Arasınav!AB1 -> 0 | J31: =BAŞARI!AT3 -> 0 | K31: =BAŞARI!AT5 -> 0 | M31: Ö27 | N31: =Ödev!AB1 -> 0 | O31: =BAŞARI!AT8 -> 0 | P31: =BAŞARI!AT10 -> 0 | R31: P27 | S31: =Proje!AB1 -> 0 | T31: =BAŞARI!AT13 -> 0 | U31: =BAŞARI!AT15 -> 0 | W31: F27 | X31: =Final!AB1 -> 0 | Y31: =BAŞARI!AT18 -> 0 | Z31: =BAŞARI!AT20 -> 0
H32: A28 | I32: =Arasınav!AC1 -> 0 | J32: =BAŞARI!AU3 -> 0 | K32: =BAŞARI!AU5 -> 0 | M32: Ö28 | N32: =Ödev!AC1 -> 0 | O32: =BAŞARI!AU8 -> 0 | P32: =BAŞARI!AU10 -> 0 | R32: P28 | S32: =Proje!AC1 -> 0 | T32: =BAŞARI!AU13 -> 0 | U32: =BAŞARI!AU15 -> 0 | W32: F28 | X32: =Final!AC1 -> 0 | Y32: =BAŞARI!AU18 -> 0 | Z32: =BAŞARI!AU20 -> 0
H33: A29 | I33: =Arasınav!AD1 -> 0 | J33: =BAŞARI!AV3 -> 0 | K33: =BAŞARI!AV5 -> 0 | M33: Ö29 | N33: =Ödev!AD1 -> 0 | O33: =BAŞARI!AV8 -> 0 | P33: =BAŞARI!AV10 -> 0 | R33: P29 | S33: =Proje!AD1 -> 0 | T33: =BAŞARI!AV13 -> 0 | U33: =BAŞARI!AV15 -> 0 | W33: F29 | X33: =Final!AD1 -> 0 | Y33: =BAŞARI!AV18 -> 0 | Z33: =BAŞARI!AV20 -> 0
H34: A30 | I34: =Arasınav!AE1 -> 0 | J34: =BAŞARI!AW3 -> 0 | K34: =BAŞARI!AW5 -> 0 | M34: Ö30 | N34: =Ödev!AE1 -> 0 | O34: =BAŞARI!AW8 -> 0 | P34: =BAŞARI!AW10 -> 0 | R34: P30 | S34: =Proje!AE1 -> 0 | T34: =BAŞARI!AW13 -> 0 | U34: =BAŞARI!AW15 -> 0 | W34: F30 | X34: =Final!AE1 -> 0 | Y34: =BAŞARI!AW18 -> 0 | Z34: =BAŞARI!AW20 -> 0
